BEGIN:VCALENDAR
PRODID:-//Microsoft Corporation//Outlook 10.0 MIMEDIR//EN
VERSION:2.0
METHOD:PUBLISH
BEGIN:VEVENT
ORGANIZER:MAILTO:support@haifaff.co.il
DTSTART:20260504T18000000Z
DTEND:20260504T18000000Z
LOCATION:סרט ברפפורט, שד\' הנשיא 138 חיפה
TRANSP:OPAQUE
SEQUENCE:7
UID:040000008200E00074C5B7101A82E00800000000F0307E0C8FD5CF010000000000000000100
 00000CC88F45319E0A54B83B4D642E9F79
RECURRENCE-ID:20141005
DTSTAMP:20260421T115237Z
DESCRIPTION:
		
			
				הקרנת טרום בכורהבזמן מלחמת העולם הראשונה, מקהלה מקומית מיורקשייר נותרת כמעט ללא חברים, לאחר שרובם הצטרפו ללחימה. נחושים להמשיך הלאה, מנהלי המקהלה מחליטים לצרף לשורותיה גברים צעירים ומנצח חדש, ד״ר הנרי גאת\'רי, אדם תובעני וחסר פשרות, שנראה שגם יש לו מה להסתיר. למרות הקשיים, הסודות והמציאות המורכבת שבחוץ, תושבי המקום מגלים שהדרך הטובה ביותר להתמודד עם הכאוס בחייהם היא ליצור ולשיר ביחד.113 דקות, אנגלית, כתוביות בעברית.באדיבות בתי קולנוע לב.
			
		
		
SUMMARY:המקהלה
END:VEVENT
END:VCALENDAR