BEGIN:VCALENDAR
PRODID:-//Microsoft Corporation//Outlook 10.0 MIMEDIR//EN
VERSION:2.0
METHOD:PUBLISH
BEGIN:VEVENT
ORGANIZER:MAILTO:support@haifaff.co.il
DTSTART:20260508T17000000Z
DTEND:20260508T17000000Z
LOCATION:סרט ברפפורט, שד\' הנשיא 138 חיפה
TRANSP:OPAQUE
SEQUENCE:7
UID:040000008200E00074C5B7101A82E00800000000F0307E0C8FD5CF010000000000000000100
 00000CC88F45319E0A54B83B4D642E9F79
RECURRENCE-ID:20141005
DTSTAMP:20260422T124804Z
DESCRIPTION:
		
			
				ימיו האחרונים של הפיסכואנליטיקן הגאון זיגמונד פרויד. ממש לאחר שנמלט עם בתו מפני הנאצים הוא זוכה לביקור מאת הפרופסור והסופר הנודע ק.ס. לואיס. באותו יום גורלי מנהלים שניים מהמוחות הגדולים של המאה העשרים שיחה מונומנטלית שעוסקת בעתיד העולם ובשאלת קיומו של אלוהים.אנתוני הופקינס נכנס לנעליו של פרויד באופן מעורר השתאות ומעניק, לצדו של השחקן הבריטי הנחשב מתיו גוד, את אחת מהפגנות המשחק המרשימות ביותר שנראו השנה על מסך הקולנוע.108 דקות, אנגלית, כתוביות בעברית.
			
		
		
SUMMARY:הטיפול האחרון של פרויד
END:VEVENT
END:VCALENDAR