BEGIN:VCALENDAR
PRODID:-//Microsoft Corporation//Outlook 10.0 MIMEDIR//EN
VERSION:2.0
METHOD:PUBLISH
BEGIN:VEVENT
ORGANIZER:MAILTO:support@haifaff.co.il
DTSTART:20260516T11000000Z
DTEND:20260516T11000000Z
LOCATION:סינמטק חיפה, שד\' הנשיא 142, מרכז הכרמל
TRANSP:OPAQUE
SEQUENCE:7
UID:040000008200E00074C5B7101A82E00800000000F0307E0C8FD5CF010000000000000000100
 00000CC88F45319E0A54B83B4D642E9F79
RECURRENCE-ID:20141005
DTSTAMP:20260421T115331Z
DESCRIPTION:
		
			
				פסטיבל הקולנוע הצרפתי &ndash; ערב הפתיחההקרנת טרום בכורהמעבר למסך: איזבל הופרמריאן היא האישה העשירה ביותר בעולם. פייר-אלן הוא סופר וצלם בפריז. השניים נפגשים בצילומים והופכים לבלתי נפרדים. החברות האוהבת ביניהם מפתיעה, משעשעת ומסקרנת, מעוררת שיח ולבסוף מערערת את סביבתה הקרובה של המיליארדרית ובני משפחתה. במיוחד בתה של מריאן מתקשה להתמודד עם הקשר הפתאומי של אמה עם הגבר הצעיר, שחמדנותו לכסף אינה יודעת שובע. בין טרקלינים מפוארים וסודות משפחתיים, נרקמת דרמה פסיכולוגית אלגנטית על יחסי כוח, כסף והצורך העמוק להיות נאהב.הסרט הוקרן בהקרנה חגיגית בפסטיבל קאן 2025.123 דקות, צרפתית, כתוביות בעברית ובאנגלית.באדיבות קולנוע חדש.&nbsp;אלוהים ברא את האישה&hellip;&nbsp;במשך למעלה מעשרים שנה, פסטיבל הקולנוע הצרפתי בישראל לקח את הקהל למסע ייחודי אל לב ליבו של קולנוע שמעולם לא חדל להמציא את עצמו מחדש.שנה אחר שנה, חוקר הפסטיבל את השינויים בעולם באמצעות סיפורים אינטימיים, פוליטיים ורגישים - לפעמים קלילים, לפעמים מרגשים, אך תמיד אנושיים מאוד.בחודש מרץ הסינמטקים של ישראל יארחו שוב את האירוע לו מחכים רבים, ובו מבחר סרטים המציגים את חיוניותו של הקולנוע הצרפתי העכשווי תוך עיסוק במורשתו.הקולנוע הוא צורת אמנות חיה: הוא מתבונן, הוא מטיל ספק, הוא לפעמים מתריס, אך מעל הכל, הוא מחבר. הוא מחבר בין דורות, תרבויות וזיכרונות. הוא מספר סיפורים ייחודיים שהופכים לאוניברסליים כשהם נוגעים בדברים המהותיים של חיינו: לאהוב, לבחור, לברוח, לחזור, להעביר ידע, להתנגד.&nbsp;נשים בלב הסיפורהמהדורה ה 23 של הפסטיבל&nbsp; מציבה נשים במרכז: נרטיב&nbsp; רב-גוני, מורכב ולא קונבנציונלי. נשים במאבק, נשים חופשיות, נשים אוהבות, נשים פצועות, נשים יצירתיות. נשים הדוחות תפקידים שהוקצו להן ומחפשות את קולן, לעיתים במחיר של גלות פנימית, קרע או שתיקה.&nbsp;החל מ\"האישה העשירה בעולם\" של תיירי קליפה, סרט הפתיחה עם הצד הקומי אנושי שלו, ועד ל\"אהבי אותי ברכות\" של אנה קזנב קמבה, וכולל את \"נערה ללא שם \", \"מתוך אהבה \" ו\"מסרו לה שאני אוהבת אותה\". סיפורים אלה מציירים דיוקן עוצמתי, אינטימי ופוליטי של נשים. הקולנוע הופך למרחב שבו גופן, רצונותיהן ובחירותיהן של נשים אינם עוד שוליים אלא מרכזיים. ברוח דומה, הפסטיבל מקיים מחווה לבריז\'יט בארדו, דמות מיתית ופרדוקסלית של הקולנוע הצרפתי. מוזה, אייקון ורוח חופשית שהקדימה את זמנה, היא מסמלת מהפכה בתפיסה ובתשוקה. באמצעות סרטים כמו \"ואלוהים ברא את האישה\" ו\"הבוז\", הפסטיבל חוגג את הנוכחות שלה&nbsp; שממשיכה לרדוף את תולדות הקולנוע, בין אור לשבר.&nbsp;באמצעות תכנית זו, פסטיבל הקולנוע הצרפתי בישראל מאשרר מחדש את משימתו: ליצור מרחב למפגש ורגש, שבו הקולנוע הופך לשפה משותפת, מקום לדיאלוג בין תרבויות, והזמנה לראות את העולם אחרת.&nbsp;אנו מודים בחום רב לסינמטקים השונים, לשותפים, למפיצים ולצוותים האמנותיים המאפשרים את קיומה של&nbsp; המהדורה הזו, כמו גם לקהל הנאמן והסקרן המעניק לפסטיבל את סיבת קיומו.&nbsp;אנו מאחלים לכם פסטיבל תוסס, מרגש ומעורר השראה.
			
			
				
			
		
		
SUMMARY:האישה העשירה בעולם
END:VEVENT
END:VCALENDAR