BEGIN:VCALENDAR
PRODID:-//Microsoft Corporation//Outlook 10.0 MIMEDIR//EN
VERSION:2.0
METHOD:PUBLISH
BEGIN:VEVENT
ORGANIZER:MAILTO:support@haifaff.co.il
DTSTART:20260514T20150000Z
DTEND:20260514T20150000Z
LOCATION:סינמטק חיפה, שד\' הנשיא 142, מרכז הכרמל
TRANSP:OPAQUE
SEQUENCE:7
UID:040000008200E00074C5B7101A82E00800000000F0307E0C8FD5CF010000000000000000100
 00000CC88F45319E0A54B83B4D642E9F79
RECURRENCE-ID:20141005
DTSTAMP:20260421T115330Z
DESCRIPTION:
		
			
				קומדיה דרמטית העוקבת אחר שתי שכנות, ויולט ופלורנס, אימהות צעירות החיות בפרוור קנדי וחוות תחושת ריקנות ושגרה חונקת. מתוך שעמום ותסכול מחיי הנישואים וההורות, הן מתחילות לבחון מחדש את רצונותיהן &ndash; תחילה דרך רומן מחוץ לנישואים והתנסויות מיניות בלתי צפויות. בהדרגה, המסע הזה מוביל אותן להתמודד עם צרכים רגשיים עמוקים יותר, עם זהותן ועם הפער בין החיים שבחרו לבין מה שהן באמת רוצות. הסרט משלב הומור פרובוקטיבי עם מבט ביקורתי על זוגיות, אימהות וחיפוש אחר חופש אישי.100 דקות, צרפתית, כתוביות בעברית.
			
		
		
SUMMARY:בגידות קטנות
END:VEVENT
END:VCALENDAR