BEGIN:VCALENDAR
PRODID:-//Microsoft Corporation//Outlook 10.0 MIMEDIR//EN
VERSION:2.0
METHOD:PUBLISH
BEGIN:VEVENT
ORGANIZER:MAILTO:support@haifaff.co.il
DTSTART:20260511T20000000Z
DTEND:20260511T20000000Z
LOCATION:סינמטק חיפה, שד\' הנשיא 142, מרכז הכרמל
TRANSP:OPAQUE
SEQUENCE:7
UID:040000008200E00074C5B7101A82E00800000000F0307E0C8FD5CF010000000000000000100
 00000CC88F45319E0A54B83B4D642E9F79
RECURRENCE-ID:20141005
DTSTAMP:20260421T115237Z
DESCRIPTION:
		
			
				כשהנישואים שלהם מתפרקים, אלכס ניצב מול משבר אמצע החיים וגירושין מתקרבים, והוא מחפש משמעות חדשה בסצנת הקומדיה של ניו יורק. במקביל, טס מתמודדת עם הוויתורים שעשתה למען המשפחה. כל אלה מאלצים אותם לנווט בין הורות משותפת, זהות, והשאלה האם אהבה יכולה לקבל צורה חדשה. בין רגעים קומיים חדים לרגעי אינטימיות כואבת, הסרט בוחן מה נשאר כשחיים משותפים מתפרקים. והאם דווקא מתוך השבר אפשר להגדיר מחדש אינטימיות, הורות וחברות.121 דקות, אנגלית, כתוביות בעברית.
			
		
		
SUMMARY:זה עובד?
END:VEVENT
END:VCALENDAR