BEGIN:VCALENDAR
PRODID:-//Microsoft Corporation//Outlook 10.0 MIMEDIR//EN
VERSION:2.0
METHOD:PUBLISH
BEGIN:VEVENT
ORGANIZER:MAILTO:support@haifaff.co.il
DTSTART:20260516T19000000Z
DTEND:20260516T19000000Z
LOCATION:סינמטק חיפה, שד\' הנשיא 142, מרכז הכרמל
TRANSP:OPAQUE
SEQUENCE:7
UID:040000008200E00074C5B7101A82E00800000000F0307E0C8FD5CF010000000000000000100
 00000CC88F45319E0A54B83B4D642E9F79
RECURRENCE-ID:20141005
DTSTAMP:20260421T115331Z
DESCRIPTION:
		
			
				שחקן אמריקאי מתקשה למצוא משמעות, עד שהוא מקבל עבודה לא שגרתית: לעבוד בסוכנות יפנית בשם \"משפחה להשכרה\" שם הוא צריך לגלם בן משפחה עבור זרים. כשהוא נטמע בעולמות של לקוחותיו הוא מתחיל לאבד את הגבולות בין משחק למציאות.תוך התמודדות עם המורכבות המוסרית של עבודתו, הוא מוצא משמעות, שייכות ונזכר ביופי של הקשר האנושי בין בני אדם.110 דקות, אנגלית ויפנית, כתוביות בעברית.
			
		
		
SUMMARY:רגשות להשכרה
END:VEVENT
END:VCALENDAR