BEGIN:VCALENDAR
PRODID:-//Microsoft Corporation//Outlook 10.0 MIMEDIR//EN
VERSION:2.0
METHOD:PUBLISH
BEGIN:VEVENT
ORGANIZER:MAILTO:support@haifaff.co.il
DTSTART:20220303T18300000Z
DTEND:20220303T18300000Z
LOCATION:סינמטק חיפה, שד\' הנשיא 142, מרכז הכרמל
TRANSP:OPAQUE
SEQUENCE:7
UID:040000008200E00074C5B7101A82E00800000000F0307E0C8FD5CF010000000000000000100
 00000CC88F45319E0A54B83B4D642E9F79
RECURRENCE-ID:20141005
DTSTAMP:20260422T083941Z
DESCRIPTION:
		
			
				מריאן, אבל ובנם בן ה-13 ז\'וזף חיים יחד בדירה פריזאית. השגרה הבורגנית שלהם מופרת לאחר שההורים מגלים כי בנם מכר בחשאי שורה של חפצים בעלי ערך שאסף מהבית כדי לממן פרויקט אקולוגי באפריקה. לאחר שהכעס מתפוגג, הילד מצליח לגייס אותם לטובת המטרה והם יוצאים יחד להציל את העולם. השחקן המוערך לואי גארל מביים ואף מככב לצד זוגתו לחיים, לטיסיה קסטה. התוצאה היא סרט מפתיע ומשעשע על נושא בעל חשיבות עליונה, שהוצג בהקרנת בכורה בפסטיבל קאן האחרון.67 דקות, צרפתית, תרגום לעברית ולאנגלית.
			
			
				
			
		
		
SUMMARY:המסע
END:VEVENT
END:VCALENDAR