BEGIN:VCALENDAR
PRODID:-//Microsoft Corporation//Outlook 10.0 MIMEDIR//EN
VERSION:2.0
METHOD:PUBLISH
BEGIN:VEVENT
ORGANIZER:MAILTO:support@haifaff.co.il
DTSTART:20220604T19000000Z
DTEND:20220604T19000000Z
LOCATION:אולם רפפורט, שד\' הנשיא 138 מרכז הכרמל
TRANSP:OPAQUE
SEQUENCE:7
UID:040000008200E00074C5B7101A82E00800000000F0307E0C8FD5CF010000000000000000100
 00000CC88F45319E0A54B83B4D642E9F79
RECURRENCE-ID:20141005
DTSTAMP:20260420T030520Z
DESCRIPTION:
		
			
				קולנוע ישראליפסטיבל הסרטים חיפהויקטור ורעיה פרנקל היו קולות הזהב של הדיבוב הסובייטי במשך עשורים. בשנת 1990, עם תחילת התפרקותה של ברית המועצות, מחליטים בני הזוג, כמו מאות אלפי יהודים סובייטים אחרים, לעלות לישראל. למרות שבישראל לא ממש זקוקים למדבבים לרוסית, הכישרון של ויקטור ורעיה ייקח אותם, במהלך החודשים הראשונים שלהם בישראל, למקומות שונים ומשונים ויהפוך את חווית הקליטה, האבסורדית והטראומטית גם כך, לכואבת ומצחיקה עוד יותר.88 דקות עברית ורוסית, תרגום לעברית.
			
			
				
			
		
		
SUMMARY:קולות רקע
END:VEVENT
END:VCALENDAR