BEGIN:VCALENDAR
PRODID:-//Microsoft Corporation//Outlook 10.0 MIMEDIR//EN
VERSION:2.0
METHOD:PUBLISH
BEGIN:VEVENT
ORGANIZER:MAILTO:support@haifaff.co.il
DTSTART:20220611T11000000Z
DTEND:20220611T11000000Z
LOCATION:סינמטק חיפה, שד\' הנשיא 142, מרכז הכרמל
TRANSP:OPAQUE
SEQUENCE:7
UID:040000008200E00074C5B7101A82E00800000000F0307E0C8FD5CF010000000000000000100
 00000CC88F45319E0A54B83B4D642E9F79
RECURRENCE-ID:20141005
DTSTAMP:20260423T035423Z
DESCRIPTION:
		
			
				הקרנת טרום בכורהכשאנדרה בן ה-85 עובר אירוע מוחי, בתו הסופרת המצליחה עמנואל עוזבת הכל ומתייצבת לצד אביה - האיש מלא החיים שהיה תמיד מוקף בחברים ובאוכל טוב ועכשיו מוצא עצמו מרותק למיטה ומתוסכל. כשאנדרה מבקש ממנה ומאחותה פסקל לעזור לו עם משימה אחת אחרונה &ndash; לסיים את חייו - הבנות מסרבות, באופן טבעי, ומשקיעות את זמנן בניסיון להחזיר לו את כוחו הפיזי ולרומם את רוחו. מיום ליום נדמה שמצבו של אנדרה משתפר והוא חוזר להיות האדם שהיה &ndash; החלטי, קצת נרגן ואפילו שובב, אבל דבר אחד לא משתנה - והבנות יצטרכו לקבל החלטה בלתי אפשרית.סרטו החדש של אמן הקולנוע המוערך פרנסואה אוזון, שאחראי לסרטי מופת כגון \"בריכת שחייה\" ו\"בתוך הבית\", הוא דרמה קומית בכיכובם של כמה מגדולי שחקני צרפת. הסרט הוקרן לראשונה בפסטיבל קאן וזכה לביקורות נלהבות.113 דקות, צרפתית, תרגום לעברית ולאנגלית.באדיבות בתי קולנוע לב
			
			
				
			
		
		
SUMMARY:הכל עבר בשלום
END:VEVENT
END:VCALENDAR