BEGIN:VCALENDAR
PRODID:-//Microsoft Corporation//Outlook 10.0 MIMEDIR//EN
VERSION:2.0
METHOD:PUBLISH
BEGIN:VEVENT
ORGANIZER:MAILTO:support@haifaff.co.il
DTSTART:20220627T20000000Z
DTEND:20220627T20000000Z
LOCATION:אולם רפפורט, שד\' הנשיא 138 מרכז הכרמל
TRANSP:OPAQUE
SEQUENCE:7
UID:040000008200E00074C5B7101A82E00800000000F0307E0C8FD5CF010000000000000000100
 00000CC88F45319E0A54B83B4D642E9F79
RECURRENCE-ID:20141005
DTSTAMP:20260420T030640Z
DESCRIPTION:
		
			
				ניקולס קייג\' מככב כ&hellip; ניקולס קייג\', בקומדיית האקשן החדשה. בעודו עומד בפני משבר כלכלי ויצירתי, הגרסה המדומיינת של קייג\' נענית להצעה להופיע ביום הולדתו של מעריץ שרוף ומסוכן בעבור מיליון דולר. דברים יוצאים לגמרי משליטה כאשר קייג\' מגויס על ידי סוכנתCIA&nbsp; ונדרש להפיח שוב חיים בדמויות איקוניות אשר גילם בעבר, על מנת להציל את עצמו ואת היקרים לו. עם קריירה רבת שנים, שעתה נראית כאילו נבנתה במיוחד עבור הרגע הזה, השחקן המעוטר ורב ההשפעה חייב להיכנס לנעלי הדמות של חייו: ניקולס קייג\'.106 דקות, אנגלית, תרגום לעברית.
			
			
				
			
		
		
SUMMARY:משקלו הבלתי נסבל של כישרון ענק
END:VEVENT
END:VCALENDAR