BEGIN:VCALENDAR
PRODID:-//Microsoft Corporation//Outlook 10.0 MIMEDIR//EN
VERSION:2.0
METHOD:PUBLISH
BEGIN:VEVENT
ORGANIZER:MAILTO:support@haifaff.co.il
DTSTART:20220714T19000000Z
DTEND:20220714T19000000Z
LOCATION:סינמטק חיפה, שד\' הנשיא 142, מרכז הכרמל
TRANSP:OPAQUE
SEQUENCE:7
UID:040000008200E00074C5B7101A82E00800000000F0307E0C8FD5CF010000000000000000100
 00000CC88F45319E0A54B83B4D642E9F79
RECURRENCE-ID:20141005
DTSTAMP:20260424T041036Z
DESCRIPTION:
		
			
				קולנוע ישראלי: סרט ומפגשיולי מיוזיקליסיפור עלייתם ונפילתם של לייבל המוזיקה העצמאי \"פאסט מיוזיק\" ומועדון \"הפטיפון\" שהוקמו על ידי אמיר שור ועמיר \"ג\'נגו\" רוסיאנו (תערובת אסקוט) בסוף הניינטיז כתגובת נגד לתעשיית מוזיקת המיינסטרים ששלטה באותה תקופה. אמיר וג\'נגו היו שני אידיאליסטים שנכוו מהתעשייה והחליטו להקים משהו אמיתי ביחד - קולקטיב מוזיקלי של אמנים עצמאיים שיעשו רק את מה שהם אוהבים ומאמינים בו. המועדון הפך לבית לסצנות מוזיקליות שונות ומגוונות, אך האם החזון האידילי יכול להחזיק מעמד לזמן רב?סרט תיעודי משעשע ומרגש הכולל מוזיקה משובחת, חומרי ארכיון נדירים וראיונות עם יהלי סובול, רמי פורטיס, אסף אמדורסקי, דייויד ברוזה, מאור כהן, גל תורן, יואב קוטנר, יובל מנדלסון, דן תורן, שרון קנטור, אלישע בנאי, דנה קסלר, רם אוריון, יוסלס איידי ורבים אחרים.115 דקות, עברית, תרגום לאנגלית.לאחר ההקרנה תתקיים שיחה עם הבמאי עמית איצקר.
			
			
				
			
		
		
SUMMARY:עצבני ומהיר: הסיפור של פאסט מיוזיק והפטיפון
END:VEVENT
END:VCALENDAR