BEGIN:VCALENDAR
PRODID:-//Microsoft Corporation//Outlook 10.0 MIMEDIR//EN
VERSION:2.0
METHOD:PUBLISH
BEGIN:VEVENT
ORGANIZER:MAILTO:support@haifaff.co.il
DTSTART:20220827T17300000Z
DTEND:20220827T17300000Z
LOCATION:אולם רפפורט, שד\' הנשיא 138 מרכז הכרמל
TRANSP:OPAQUE
SEQUENCE:7
UID:040000008200E00074C5B7101A82E00800000000F0307E0C8FD5CF010000000000000000100
 00000CC88F45319E0A54B83B4D642E9F79
RECURRENCE-ID:20141005
DTSTAMP:20260425T041025Z
DESCRIPTION:
		
			
				קולנוע, ספרים וסופריםאדפטציה לרב מכר בינלאומי שכתב בראדלי טרבור גרייב. סיפורה של סם בלום, אם לשלושה, שנפצעה בתאונת דרכים והפכה למשותקת. בעלה, ילדיה ואימה מנסים לעזור לה להשתקם, אך מי שעוזר לה ולמשפחתה יותר מכל הוא דווקא גוזל פצוע העונה לכינוי \"פינגווין\". נוכחותו של \"פינגווין\" מאחדת את משפחת בלום שמטפלת בו במסירות, ומסייעת להם להחלים ולהביט בתקווה אל העתיד.95 דקות, אנגלית, תרגום לעברית.
			
			
				
			
		
		
SUMMARY:לומדת לעוף
END:VEVENT
END:VCALENDAR