BEGIN:VCALENDAR
PRODID:-//Microsoft Corporation//Outlook 10.0 MIMEDIR//EN
VERSION:2.0
METHOD:PUBLISH
BEGIN:VEVENT
ORGANIZER:MAILTO:support@haifaff.co.il
DTSTART:20220824T19000000Z
DTEND:20220824T19000000Z
LOCATION:אולם רפפורט, שד\' הנשיא 138 מרכז הכרמל
TRANSP:OPAQUE
SEQUENCE:7
UID:040000008200E00074C5B7101A82E00800000000F0307E0C8FD5CF010000000000000000100
 00000CC88F45319E0A54B83B4D642E9F79
RECURRENCE-ID:20141005
DTSTAMP:20260425T042633Z
DESCRIPTION:
		
			
				הקרנת טרום בכורהקולנוע, ספרים וסופריםמבוסס על הרומן המפורסם מאת אונורה דה בלזק, \"אשליות אבודות\". דרמה רומנטית סוחפת, חדה ומשעשעת שמביאה את סיפורו של לוסיאן, משורר מוכשר בן המעמד הנמוך שמאוהב עד טירוף בברונית לואיז דה בג\'ארטון, שמעמדה גבוה משלו משמעותית. בניסיון להימנע מהסקנדל שבאופן טבעי יתלווה לרומן האסור, הברונית מחליטה לעבור לפריז ולקחת אתה את לוסיאן. שם, מסונוור מהאורות והקצב המסחרר של העיר, המשורר הפשוט מהכפר יעלה לגדולה, יתרסק, יתאהב, יסתבך וייאבק בכל כוחו להישאר נאמן לחלומותיו. הסרט הוקרן בפסטיבל וונציה וזכה ב-7 פרסי סזאר, בהם לסרט הטוב ביותר, לשחקן המשנה ולשחקן המבטיח.144 דקות, צרפתית, תרגום לעברית ולאנגלית.באדיבות בתי קולנוע לב.
			
			
				
			
		
		
SUMMARY:אשליות אבודות
END:VEVENT
END:VCALENDAR