BEGIN:VCALENDAR
PRODID:-//Microsoft Corporation//Outlook 10.0 MIMEDIR//EN
VERSION:2.0
METHOD:PUBLISH
BEGIN:VEVENT
ORGANIZER:MAILTO:support@haifaff.co.il
DTSTART:20220916T18000000Z
DTEND:20220916T18000000Z
LOCATION:אולם רפפורט, שד\' הנשיא 138 מרכז הכרמל
TRANSP:OPAQUE
SEQUENCE:7
UID:040000008200E00074C5B7101A82E00800000000F0307E0C8FD5CF010000000000000000100
 00000CC88F45319E0A54B83B4D642E9F79
RECURRENCE-ID:20141005
DTSTAMP:20260422T083810Z
DESCRIPTION:
		
			
				פסטיבל אפוס לסרטי אמנותמל ברוקס הוא צעיר בן 92, עם אנרגיות בלתי אפשריות, עיתוי קומי מדויק, חשיבות עצמית טובלת בהומור אינסופי וקריירה מדהימה שבמהלכה נכנס למועדון היוקרתי של אלה שזכו בארבעת הפרסים החשובים ביותר בתעשיית הבידור האמריקאי &ndash; אוסקר, טוני, גראמי ואמי. אלן ינטוב מהבי.בי.סי, שמתמחה ביצירת דיוקנאות של אמנים בעולם, כבר פגש את ברוקס בעבר, ופגישתו המחודשת מחזירה אותו אחורה אל פגישות קודמות, מהם אנחנו מקבלים הצצות לאורך הסרט. המפגש המחודש הוא לרגל ההצלחה המסחררת של מחזמר על פי \"פרנקנשטיין הצעיר\", כך שברוקס נפגש עם ינטוב לא כדי לסכם את חייו, אלא כיוצר חי ובועט שממשיך להצליח ולהשפיע. יחד הם נוסעים לבקר את חברו הקרוב, קרל ריינר, וינטוב נראה כמי ששמח ללכת בעקבות שני הקשישים האלה ולספוג משהו מרוחם האיתנה. ההצצות אחורה מגלות שברוקס לא השתנה הרבה, ואם השתנה הרי שהפך עוד יותר תזזיתי, פרוע ולא ניתן לעצירה.75 דקות, אנגלית, תרגום לעברית.ההקרנה והתקציר באדיבות פסטיבל אפוס
			
			
				
			
		
		
SUMMARY:מל ברוקס – באמצע החיים
END:VEVENT
END:VCALENDAR