BEGIN:VCALENDAR
PRODID:-//Microsoft Corporation//Outlook 10.0 MIMEDIR//EN
VERSION:2.0
METHOD:PUBLISH
BEGIN:VEVENT
ORGANIZER:MAILTO:support@haifaff.co.il
DTSTART:20220914T19000000Z
DTEND:20220914T19000000Z
LOCATION:סינמטק חיפה, שד\' הנשיא 142, מרכז הכרמל
TRANSP:OPAQUE
SEQUENCE:7
UID:040000008200E00074C5B7101A82E00800000000F0307E0C8FD5CF010000000000000000100
 00000CC88F45319E0A54B83B4D642E9F79
RECURRENCE-ID:20141005
DTSTAMP:20260419T013615Z
DESCRIPTION:
		
			
				שלוש מכולות מוברחות ומפוקפקות מגיעות לידיים הלא נכונות. חתונת השנה נמצאת בסכנה. מבריחים ערבים, סוחרי נשק חרדים מגדלי פרחים הומואים, גנגסטרים סלוניקאים, הייטקיסט תמים ועולה חדשה מצרפת, יעשו הכל כדי להתיר את הפלונטר, ולהישאר בחיים. בהצלחה...!94 דקות, עברית, כתוביות בעברית.
			
			
				
			
		
		
SUMMARY:חומוס פול טריילר
END:VEVENT
END:VCALENDAR