BEGIN:VCALENDAR
PRODID:-//Microsoft Corporation//Outlook 10.0 MIMEDIR//EN
VERSION:2.0
METHOD:PUBLISH
BEGIN:VEVENT
ORGANIZER:MAILTO:support@haifaff.co.il
DTSTART:20221117T19000000Z
DTEND:20221117T19000000Z
LOCATION:סינמטק חיפה, שד\' הנשיא 142, מרכז הכרמל
TRANSP:OPAQUE
SEQUENCE:7
UID:040000008200E00074C5B7101A82E00800000000F0307E0C8FD5CF010000000000000000100
 00000CC88F45319E0A54B83B4D642E9F79
RECURRENCE-ID:20141005
DTSTAMP:20260419T013400Z
DESCRIPTION:
		
			
				מועדון הסרט המופרע &ndash; יהודה ברקןהרצאה וסרט בכרטיס אחדבמאי ומרצה: אלון גור אריההבמאי אלון גור אריה חוזר לסינמטק והפעם עם סרט חדש שהוקרן לראשונה בפסטיבל הסרטים הבינלאומי בחיפה. זהו סרטו התיעודי הראשון של אלון כבמאי העוסק בחייו ויצירתו של הקולנוען יהודה ברקן. במפגש יסופר כיצד נרקם הרעיון, איך נאספו סיפורים אודות פרק בתעשיית הקולנוע בישראל שחלקם מסופרים בפעם הראשונה, על השאלות המוסריות בבחירת הדרך להציג רגעים שנויים במחלוקת תוך שמירה על ההומור ונאמנות לאמת. על הקריינות הייחודית, הסיפורים מאחורי הקלעים ואלו שנותרו על רצפת חדר העריכה. לא לפספס.פסטיבל הסרטים חיפה &ndash; תחרות הקולנוע התיעודיקולנוע ישראלי: סרט ומפגשאנחנו לא ניפרד לעולםWE\'LL NEVER SAY GOODBYEישראל 2022בימוי: אלון גור אריהסיפור עלייתו ונפילתו של אחד האנשים החזקים בתעשיית הקולנוע הישראלית, יהודה ברקן - מי שהיה המפיק, השחקן, הכותב והמשקיע, לפעמים היחיד, בסרטיו.לצד חומרי ארכיון שטרם נראו יסופר כיצד החליט ברקן לנצח את המערכת בדרך שלו. מתפקידים ראשונים ב\"הוא הלך בשדות\" ו\"לופו\", מצא את עצמו מחליף ז\'אנרים כזיקית &ndash; סרטי הבורקס, סרטי המתיחות השנויים במחלוקת ומלודרמות כמו \"אבא גנוב\". כשנכשל בחייו האישים (נישואין שהתפרקו, בת בברזיל שלא הכיר) דאג לכתוב \"סוף הוליוודי\" למשברים שפקדו אותו ולצלם אותם כסצנות בסרטיו. כשהיה בשיא כוחו, החליט שהוא חזק מספיק כדי \"להמר על כל הקופה\" ולמלא בעצמו את כל התפקידים ביצירת סרטי קולנוע, והתרסק.90 דקות, עברית, תרגום לאנגלית.
			
		
		
SUMMARY:מועדון הסרט המופרע: יהודה ברקן - אנחנו לא ניפרד לעולם
END:VEVENT
END:VCALENDAR