BEGIN:VCALENDAR
PRODID:-//Microsoft Corporation//Outlook 10.0 MIMEDIR//EN
VERSION:2.0
METHOD:PUBLISH
BEGIN:VEVENT
ORGANIZER:MAILTO:support@haifaff.co.il
DTSTART:20230128T11000000Z
DTEND:20230128T11000000Z
LOCATION:אולם רפפורט, שד\' הנשיא 138 מרכז הכרמל
TRANSP:OPAQUE
SEQUENCE:7
UID:040000008200E00074C5B7101A82E00800000000F0307E0C8FD5CF010000000000000000100
 00000CC88F45319E0A54B83B4D642E9F79
RECURRENCE-ID:20141005
DTSTAMP:20260422T042404Z
DESCRIPTION:
		
			
				הקרנת טרום בכורהפסטיבל הסרטים חיפהאדם, בן למשפחת דייגים קשת יום בכפר קטן במצרים, זוכה במלגה לאוניברסיטת אל-אזהר, מרכז הלימוד המוביל של האסלאם הסוני. זמן קצר אחרי בואו נפטר האימאם של האוניברסיטה. הרשויות רוצות מאוד להשפיע על בחירת האימאם החדש ולהשיג דריסת רגל במוסד, וקולונל איברהים, איש המשטרה החשאית, נדרש להשלים את המשימה. הוא בוחר באדם- חסר חברים, קשרים או ניסיון חיים - להיות האיש שלו בשטח.זוכה פרס התסריט בפסטיבל קאן 2022, \"הילד&nbsp; מגן עדן\" נכתב בהשראת ספרו של אומברטו אקו, \"שם הוורד\". המותחן הפוליטי הרלוונטי, עם צוות שחקנים משובח, לוקח אותנו לאתר התרחשות מרתק ולא מוכר, מסקרן וחשוב לא פחות מן הוותיקן עצמו.125 דקות, ערבית, תרגום לעברית ולאנגלית.באדיבות קולנוע חדש.
			
			
				
			
		
		
SUMMARY:הילד מגן עדן
END:VEVENT
END:VCALENDAR