BEGIN:VCALENDAR
PRODID:-//Microsoft Corporation//Outlook 10.0 MIMEDIR//EN
VERSION:2.0
METHOD:PUBLISH
BEGIN:VEVENT
ORGANIZER:MAILTO:support@haifaff.co.il
DTSTART:20230504T19000000Z
DTEND:20230504T19000000Z
LOCATION:סינמטק חיפה, שד\' הנשיא 142, מרכז הכרמל
TRANSP:OPAQUE
SEQUENCE:7
UID:040000008200E00074C5B7101A82E00800000000F0307E0C8FD5CF010000000000000000100
 00000CC88F45319E0A54B83B4D642E9F79
RECURRENCE-ID:20141005
DTSTAMP:20260419T012626Z
DESCRIPTION:
		
			
				פסטיבל חיפה ה-16 לסרטי פועליםקולנוע ישראלי: סרט ומפגשאי אפשר להבין את הפוליטיקה הישראלית בלי להבין את הליכוד, המפלגה הדומיננטית בישראל כבר כמעט 50 שנה. בלב הסיפור של הליכוד נמצאים היחסים המורכבים בין ראשי המפלגה לדורותיה לבין המצביעים המזרחים, הפריפריה הישראלית והמתח שלא דועך בין ישראל הראשונה לשנייה. כל אלה מגולמים בסיפור חייו המסחרר של דוד לוי, הנער שעלה מרבאט, צמח כמנהיג פועלים בבית שאן, המריא אל צמרת המדינה, עד שהתחיל להוות איום וסומן כבדיחה מהלכת, \"בכיר מוקף פושעים\", \"קוף שירד מהעצים\" ובסופו של דבר חזר את כל הדרך אל בית שאן.90 דקות, עברית, כתוביות בעברית.לאחר ההקרנה תתקיים שיחה של רפי קמחי מפיק שותף של הפסטיבל, עם הבמאי רובי אלמליח ועם ח\"כ נעמה לזימי - \"חשבון הנפש של ישראל השנייה\".הפסטיבל מתקיים בשת&rdquo;פ עם תנועת תרבות 
			
			
				
			
			
				
			
		
		
SUMMARY:דוד מלך ישראל השנייה
END:VEVENT
END:VCALENDAR