BEGIN:VCALENDAR
PRODID:-//Microsoft Corporation//Outlook 10.0 MIMEDIR//EN
VERSION:2.0
METHOD:PUBLISH
BEGIN:VEVENT
ORGANIZER:MAILTO:support@haifaff.co.il
DTSTART:20230806T18000000Z
DTEND:20230806T18000000Z
LOCATION:אולם רפפורט, שד\' הנשיא 138 מרכז הכרמל
TRANSP:OPAQUE
SEQUENCE:7
UID:040000008200E00074C5B7101A82E00800000000F0307E0C8FD5CF010000000000000000100
 00000CC88F45319E0A54B83B4D642E9F79
RECURRENCE-ID:20141005
DTSTAMP:20260420T030210Z
DESCRIPTION:
		
			
				הקרנת טרום בכורהפיליפ גארלבעולם תזזיתי, שבו הטכנולוגיה מתפתחת בקצב מסחרר ו\"חדש\" פירושו \"טוב\", משפחה קטנה משמרת את האמנות הקדומה של תיאטרון הבובות: האח והאחיות מפעילים אותן, האב מביים והסבתא אחראית על התפאורה. בין החמישה מתקיימות מערכות יחסים עדינות למדי, ורק המאהבים מבחוץ &ndash; עם שלל תשוקותיהם ודרישותיהם &ndash; מאיימים להפר את הסדר. כשהאב מתמוטט לפתע במהלך הצגה, שלושת ילדיו חשים שעליהם לשמור על מורשתו. הם מתמודדים עם שאלת השאלות: האם ההצגה אכן חייבת להימשך? ובאיזה מחיר? מדובר בסרט צנוע, חמוץ-מתוק וכובש-לב, אלא גם פרויקט משפחתי מלבב: פיליפ גארל, הבמאי הוותיק המזוהה עם \"הגל החדש\", ליהק לסרט את ממשיכי דרכו &ndash; בנו לואי גארל ושתי בנותיו אסתר ולנה.95 דקות, צרפתית, תרגום לעברית ולאנגלית.באדיבות בתי קולנוע לב.
			
			
				
			
		
		
SUMMARY:העגלה הגדולה
END:VEVENT
END:VCALENDAR