BEGIN:VCALENDAR
PRODID:-//Microsoft Corporation//Outlook 10.0 MIMEDIR//EN
VERSION:2.0
METHOD:PUBLISH
BEGIN:VEVENT
ORGANIZER:MAILTO:support@haifaff.co.il
DTSTART:20230811T17300000Z
DTEND:20230811T17300000Z
LOCATION:אולם רפפורט, שד\' הנשיא 138 מרכז הכרמל
TRANSP:OPAQUE
SEQUENCE:7
UID:040000008200E00074C5B7101A82E00800000000F0307E0C8FD5CF010000000000000000100
 00000CC88F45319E0A54B83B4D642E9F79
RECURRENCE-ID:20141005
DTSTAMP:20260419T014905Z
DESCRIPTION:
		
			
				חודש של אהבהמה הייתם עושים אם בוקר אחד הייתם מגלים שמישהו ביטל לכם את החתונה? ארבעה זוגות חברים מקבלים בוקר אחד הודעה מבית המשפט - השופט מכריז כי נישואיהם בטלים לאחר שהתגלה שהכומר שחיתן אותם לא היה כומר אמיתי. עם חלומות על החלטות מחודשות וההורי על המתחים של חיי הזוגיות, על הבגידות והסודות, ככל שמתקרב היום הגורלי של הבטחת האהבה הנצחית בשנית, כבר לא ברור שכולם יבחרו לחזור אל אותם חיים. מהבמאי והתסריטאי של הסרט ״זרים מושלמים\".101 דקות, איטלקית, תרגום לעברית.
			
			
				
			
		
		
SUMMARY:אהבה איטלקית
END:VEVENT
END:VCALENDAR