BEGIN:VCALENDAR
PRODID:-//Microsoft Corporation//Outlook 10.0 MIMEDIR//EN
VERSION:2.0
METHOD:PUBLISH
BEGIN:VEVENT
ORGANIZER:MAILTO:support@haifaff.co.il
DTSTART:20230912T19000000Z
DTEND:20230912T19000000Z
LOCATION:סינמטק חיפה, שד\' הנשיא 142, מרכז הכרמל
TRANSP:OPAQUE
SEQUENCE:7
UID:040000008200E00074C5B7101A82E00800000000F0307E0C8FD5CF010000000000000000100
 00000CC88F45319E0A54B83B4D642E9F79
RECURRENCE-ID:20141005
DTSTAMP:20260424T043522Z
DESCRIPTION:
		
			
				קולנוע ישראלי: סרט ומפגשפסטיבל דוקאביב יפים, יוצר הסרט, מתעד את משפחתו מאז היותו נער. במשך עשורים הוא חוקר בעזרת המצלמה את היחסים ההרסניים של אביו ואמו. כאשר יפים עצמו נמצא חסר ישע באחת התקופות הקשות בחיי הזוגיות שלו, הוא נחשף לסוד אפל שהוריו ניסו בכל כוחם להסתיר ממנו. הגילוי מטלטל את עולמו והוא יוצא למסע קולנועי רצוף שקרים, בגידות ואשמה, במטרה לרפא את הפצע העמוק שבתוכו.90 דקות, רוסית, תרגום לעברית.לאחר ההקרנה תתקיים שיחה עם הבמאי יפים גרבוי.
			
			
				
			
		
		
SUMMARY:שקרים שסיפרתי לעצמי
END:VEVENT
END:VCALENDAR