BEGIN:VCALENDAR
PRODID:-//Microsoft Corporation//Outlook 10.0 MIMEDIR//EN
VERSION:2.0
METHOD:PUBLISH
BEGIN:VEVENT
ORGANIZER:MAILTO:support@haifaff.co.il
DTSTART:20231213T17300000Z
DTEND:20231213T17300000Z
LOCATION:סינמטק חיפה, שד\' הנשיא 142, מרכז הכרמל
TRANSP:OPAQUE
SEQUENCE:7
UID:040000008200E00074C5B7101A82E00800000000F0307E0C8FD5CF010000000000000000100
 00000CC88F45319E0A54B83B4D642E9F79
RECURRENCE-ID:20141005
DTSTAMP:20260423T100809Z
DESCRIPTION:
		
			
				פסטיבל אפוס לסרטי אמנות מראשיתו של הקולנוע היו נשים נתונות להחפצה תחת המבט הגברי &ndash; החל מסדרות התמונות הנעות הראשונות של חלוץ הקולנוע אדוארד מייברידג\' ועד היום. מאות אלפי סרטים, שרבים מהם שייכים לקאנון הקולנועי ושעיצבו את הדרך שבה אנו צופים ומרגישים קולנוע, לוקים באותה החפצה וקיבעו נורמות חברתיות הרסניות.בשנים האחרונות, המגמה הזו סוף סוף מתחילה להשתנות תודות ל- MeToo#. ג\'יין פונדה, רוזנה ארקט, אנג\'לה רובינסון ורוז מקג\'וון &ndash; שהייתה מהראשונות לחשוף את פשעיו של הארווי ויינשטיין &ndash; הן רק כמה מהשחקניות שיושבות לפני המצלמה ומשתפות בחוויותיהן המצמררות על סטים של סרטים מוכרים שבהם הופיעו. הן מספרות על שנים של זלזול והשפלה שחוו מצד התעשייה ההוליוודית ועל התדמית הכמעט בלתי הפיכה שנוצרה להן בגלל הסרטים שבהם השתתפו. חלקן הבינו את גודל הנזק רק לאחר שצפו בסרטים והבינו שבגדו באמון שלהן והפרו הבטחות שניתנו להן. סרט סוחף ומכעיס על ההיסטוריה של ייצוג המיניות בהוליווד.86 דקות, אנגלית, תרגום לעברית.ההקרנה והתקציר באדיבות פסטיבל אפוס.
			
			
				
			
		
		
SUMMARY:גוף על גוף
END:VEVENT
END:VCALENDAR