BEGIN:VCALENDAR
PRODID:-//Microsoft Corporation//Outlook 10.0 MIMEDIR//EN
VERSION:2.0
METHOD:PUBLISH
BEGIN:VEVENT
ORGANIZER:MAILTO:support@haifaff.co.il
DTSTART:20231226T19300000Z
DTEND:20231226T19300000Z
LOCATION:סינמטק חיפה, שד\' הנשיא 142, מרכז הכרמל
TRANSP:OPAQUE
SEQUENCE:7
UID:040000008200E00074C5B7101A82E00800000000F0307E0C8FD5CF010000000000000000100
 00000CC88F45319E0A54B83B4D642E9F79
RECURRENCE-ID:20141005
DTSTAMP:20260422T045137Z
DESCRIPTION:
		
			
				הקרנת טרום בכורהסרטים מפסטיבלים: קאן: זוכה תחרות \"מבט מסוים\"סרט הביכורים של מולי מנינג-ווקר הימם את הקהל בפסטיבל קאן האחרון וקטף את הפרס הראשי בתחרות \"מבט מסוים\". הסרט עוקב אחר שלוש נערות בריטיות שטסות לקפריסין לאחת מאותן חופשות המבוססות על מסיבות בריכה וצריכה אינטנסיבית של אלכוהול. אחת מהן טרם קיימה יחסי מין, ומופעל עליה לחץ כבד לאבד את בתוליה. הבמאית הבריטית נמנעת מסנסציוניות ופתרונות קלים, ומשרטטת ברגישות דיוקן של הגיבורות &ndash; ושל הדור כולו. היא מיטיבה להמחיש את הגבריות הרעילה והטורפת שממתינה להן מצד אחד, ואת הלחץ החברתי הבלתי אפשרי שמנגד. בזכות שורה של החלטות בימוי נועזות, ובסיוע תצוגות משחק נפלאות, זהו הסרט הטוב ביותר שנוצר עד כה על המתחולל בחופשות המפוקפקות בקפריסין, שלמרבה הצער עלו לכותרות גם בישראל &ndash; ואחד הסרטים הטובים ביותר שנעשו במסגרת מהפכת MeToo. מדובר בסרט אמיץ, תוסס ומכמיר לב.98 דקות, אנגלית, תרגום לעברית.באדיבות קולנוע חדש.
			
			
				
			
		
		
SUMMARY:איך לעשות סקס
END:VEVENT
END:VCALENDAR