BEGIN:VCALENDAR
PRODID:-//Microsoft Corporation//Outlook 10.0 MIMEDIR//EN
VERSION:2.0
METHOD:PUBLISH
BEGIN:VEVENT
ORGANIZER:MAILTO:support@haifaff.co.il
DTSTART:20240123T18300000Z
DTEND:20240123T18300000Z
LOCATION:סינמטק חיפה, שד\' הנשיא 142, מרכז הכרמל
TRANSP:OPAQUE
SEQUENCE:7
UID:040000008200E00074C5B7101A82E00800000000F0307E0C8FD5CF010000000000000000100
 00000CC88F45319E0A54B83B4D642E9F79
RECURRENCE-ID:20141005
DTSTAMP:20260419T012627Z
DESCRIPTION:
		
			
				קולנוע ישראלי: סרט ומפגשיום הזיכרון הבינלאומי לשואהאם ובן נוסעים לראשונה יחד לפולין. הבן הוא יעקב גלעד, האיש שכתב את האלבום המיתולוגי \"אפר ואבק\". האם היא הסופרת וניצולת השואה, הלינה בירנבאום. את \"אפר ואבק\" כתב יעקב מבלי שכף רגלו דרכה בפולין. 35 שנה סרב לבקשות אמו לבוא עמה. פחד שלא יעמוד רגשית במסע. כאשר להלינה מלאו 90 וביוגרפיה על חייה עמדה לצאת לאור, נסע אתה בעקבות נתיב ההישרדות שלה וגם לירידי הספרים. שם הוא מגלה שבפולין אמו היא כוכבת ספרותית ותוהה מדוע בישראל אינה מוכרת. הסרט מתעד את מסע הבן והאם, היחסים ביניהם, ואת הפוליטיקה של הזיכרון.70 דקות, עברית, פולנית ואנגלית, תרגום לעברית.לאחר ההקרנה תתקיים שיחה עם הבמאית יסמין קיני.
			
			
				
			
		
		
SUMMARY:לאן את נוסעת
END:VEVENT
END:VCALENDAR