BEGIN:VCALENDAR
PRODID:-//Microsoft Corporation//Outlook 10.0 MIMEDIR//EN
VERSION:2.0
METHOD:PUBLISH
BEGIN:VEVENT
ORGANIZER:MAILTO:support@haifaff.co.il
DTSTART:20240222T18300000Z
DTEND:20240222T18300000Z
LOCATION:אולם רפפורט, שד\' הנשיא 138 מרכז הכרמל
TRANSP:OPAQUE
SEQUENCE:7
UID:040000008200E00074C5B7101A82E00800000000F0307E0C8FD5CF010000000000000000100
 00000CC88F45319E0A54B83B4D642E9F79
RECURRENCE-ID:20141005
DTSTAMP:20260423T035754Z
DESCRIPTION:
		
			
				הקרנת טרום בכורהפסטיבל הסרטים חיפהאנטומיה של נפילה &ndash; חמש מועמדויות בתחרות אוסקר 2024סנדרה היא סופרת מצליחה שבן זוגה מוצא את מותו בנפילה מחלון ביתם. החקירה שוללת את האפשרות שמדובר בתאונה, מה שמותיר אחת משתי אפשרויות: או שהוא שם קץ לחייו, או שזוגתו דחפה אותו אל מותו. כשהתעלומה מתבררת בבית המשפט, חקר האמת חושף את המתיחות ששררה בין בני הזוג לפני האסון, ובאופן עמוק יותר את המתח הגלום בכל זוגיות אנושית, בהורות ובדינמיקה בין המגדרים.סרטה עטור השבחים של הבמאית הצרפתייה המוערכת ז\'וסטין טרייה היה הזוכה הגדול בפסטיבל קאן האחרון, כשקטף את פרס דקל הזהב היוקרתי (זכייה שלישית בלבד של במאית בהיסטוריה של הפסטיבל). את סנדרה מגלמת סנדרה הולר (\"טוני ארדמן\"), שהפכה בשנים האחרונות לאחת השחקניות הבולטות באירופה.הסרט זכה בחמש מועמדויות בתחרות אוסקר 2024: הסרט הטוב ביותר, הבימוי, השחקנית, התסריט והעריכה.151 דקות, צרפתית, אנגלית וגרמנית, תרגום לעברית ולאנגלית.באדיבות קולנוע חדש.
			
			
				
			
		
		
SUMMARY:אנטומיה של נפילה
END:VEVENT
END:VCALENDAR