BEGIN:VCALENDAR
PRODID:-//Microsoft Corporation//Outlook 10.0 MIMEDIR//EN
VERSION:2.0
METHOD:PUBLISH
BEGIN:VEVENT
ORGANIZER:MAILTO:support@haifaff.co.il
DTSTART:20240308T18000000Z
DTEND:20240308T18000000Z
LOCATION:אולם רפפורט, שד\' הנשיא 138 מרכז הכרמל
TRANSP:OPAQUE
SEQUENCE:7
UID:040000008200E00074C5B7101A82E00800000000F0307E0C8FD5CF010000000000000000100
 00000CC88F45319E0A54B83B4D642E9F79
RECURRENCE-ID:20141005
DTSTAMP:20260419T013608Z
DESCRIPTION:
		
			
				הקרנת טרום בכורהמרץ נשישלוש נשים, שלושה סיפורי חיים בשלוש יבשות, והצמה שקושרת ביניהן: סמיטה חיה בהודו וחולמת לראות את בתה רוכשת השכלה ונחלצת מחיים אומללים. ג׳וליה עובדת בבית המלאכה של אביה בסיציליה. כשהוא נפגע בתאונה היא מגלה שהעסק המשפחתי על סף פשיטת רגל. שרה, עורכת דין מפורסמת בקנדה, צפויה להתקדם לניהול המשרד, אך לחיים תוכניות משלהם. סמיטה, ג׳וליה ושרה, הקשורות בלי דעת מתקוממות נגד גורלן ומחליטות להיאבק. סיפורן השופע אנושיות הוא צמה קלועה של סולידריות ותקווה.לטישיה קולומביאני היא במאית, שחקנית, תסריטאית וסופרת צרפתייה. ספרה ״הצמה״ הפך רב מכר מיד עם צאתו לאור ותורגם ל־27 שפות.121 דקות, הינדית, איטלקית ואנגלית, תרגום לעברית ואנגלית.באדיבות סרטי נחשון.
			
			
				
			
		
		
SUMMARY:הצמה
END:VEVENT
END:VCALENDAR