BEGIN:VCALENDAR
PRODID:-//Microsoft Corporation//Outlook 10.0 MIMEDIR//EN
VERSION:2.0
METHOD:PUBLISH
BEGIN:VEVENT
ORGANIZER:MAILTO:support@haifaff.co.il
DTSTART:20240410T18300000Z
DTEND:20240410T18300000Z
LOCATION:סינמטק חיפה, שד\' הנשיא 142, מרכז הכרמל
TRANSP:OPAQUE
SEQUENCE:7
UID:040000008200E00074C5B7101A82E00800000000F0307E0C8FD5CF010000000000000000100
 00000CC88F45319E0A54B83B4D642E9F79
RECURRENCE-ID:20141005
DTSTAMP:20260422T043035Z
DESCRIPTION:
		
			
				מועדון הסרט המופרע - סרט והרצאה בכרטיס אחדהנסיכה הקסומה והרצאה על סרטי פולחן נגד כל הסיכוייםמרצה: הבמאי אלון גור אריהמדוע \"הנסיכה הקסומה\" נחשב לתסריט מקולל? למה פחדו מהשחקנית מ\"הקוסם מארץ עוץ\" חצי שנה אחרי הצילומים? מי קיצץ את השדה מפתיחת \"צלילי המוסיקה\" רגע לפני שהתחילו לצלם? איך הצליח \"מופע האימים של רוקי\" להפוך מקטסטרופה להצלחה שאין לה תחרות? סיפוריי אימה על סרטים שנראו ככישלון בטוח ופתאום קרה הנס. ממחיקת \"צעצוע של סיפור\" ממחשבי פיקסאר דרך \"חמים וטעים\" ועד כמה עלו השחקנים של \"וונקה\" במשקל אחרי שאכלו את התפאורה. לסיום יוקרן הסרט \"הנסיכה הקסומה\" מול קהל חי שחלקו מצטט משפטים בעל פה. ראו הוזהרתם.יוקרן הסרט:הנסיכה הקסומהTHE PRINCESS BRIDEארה\"ב 1987בימוי: רוב ריינרמשחק: קרי אלווס, רובין רייט, כריס סרנדון, אנדרה הענק, ואלאס שון, בילי קריסטל, קרול קייןסרט פנטזיה רומנטי וקסום שהפך לקלאסיקה מודרנית ואהובה אודות סב המספר לנכדו החולה סיפור אגדה ישן על מלך רשע, נסיכה יפיפייה ואהובה האמיץ אשר מוכנים לעשות הכל בשם אהבת אמת; על מסע הנקם של סייף מוכשר שאיבד את אביו, על איש חכם ורע שאי אפשר להביס בחידות, על ענק, על צלופחים, על מכונת עינויים ועל מלך קנאי. מדובר באחד מהסרטים המהנים והאהובים שנוצרו בעשורים האחרונים, סרט שמציע שילוב מבריק של הרפתקה, רומנטיקה והומור.101 דקות, אנגלית, תרגום לעברית.
			
			
				
			
		
		
SUMMARY:הנסיכה הקסומה והרצאה על סרטי פולחן נגד כל הסיכויים
END:VEVENT
END:VCALENDAR