BEGIN:VCALENDAR
PRODID:-//Microsoft Corporation//Outlook 10.0 MIMEDIR//EN
VERSION:2.0
METHOD:PUBLISH
BEGIN:VEVENT
ORGANIZER:MAILTO:support@haifaff.co.il
DTSTART:20240517T17300000Z
DTEND:20240517T17300000Z
LOCATION:סינמטק חיפה, שד\' הנשיא 142, מרכז הכרמל
TRANSP:OPAQUE
SEQUENCE:7
UID:040000008200E00074C5B7101A82E00800000000F0307E0C8FD5CF010000000000000000100
 00000CC88F45319E0A54B83B4D642E9F79
RECURRENCE-ID:20141005
DTSTAMP:20260422T083925Z
DESCRIPTION:
		
			
				סרטי אמנות: פסטיבל אפוס 2024האמת, נעים לפעמים לראות סרט על צייר שלא היה עני מרוד בימי חייו ושגדולתו לא התגלתה רק אחרי מותו. הצייר הוונציאני טיציאן (טיציאנו וצ\'ליו בשמו המלא) זכה להצלחה רבה עוד בימי חייו, אולי בזכות הצבעוניות הדומיננטית והראוותנות של ציוריו, ואולי לא פחות מכך בזכות יכולתו להגיע לליבותיהם &ndash; ולכיסיהם &ndash; של שועי אירופה של תקופתו. בשיאו של הרנסנס הוא גם היה לצייר הרשמי של ונציה, העיר שנראית בציוריו מושכת ומרשימה להפליא.הוא היה חדשן, והחדשנות שלו התבטאה בין השאר בשימוש נועז בצבעים ובאור &ndash; \"התפוצצות של אור\" כדברי אחד ממומחי האמנות המשתתפים בסרט &ndash; שהשפיע על האמנות גם מאות שנים אחריו. אחרים המשתתפים בסרט הם אמנים בני זמננו, כמו ג\'ף קונס, שמסתכלים עליו בעיניים עכשוויות. חלקים מהסרט משחזרים את דרכי העבודה והיצירה של טיציאן, אבל מה שאולי מרשים יותר מכל זו האפשרות לצפות על המסך הגדול ביצירות עוצרות הנשימה במלוא צבעוניותן ועוצמתן.83 דקות, גרמנית ואיטלקית, תרגום לעברית.ההקרנה והתקציר באדיבות פסטיבל אפוס.
			
			
				
			
		
		
SUMMARY:טיציאן
END:VEVENT
END:VCALENDAR