BEGIN:VCALENDAR
PRODID:-//Microsoft Corporation//Outlook 10.0 MIMEDIR//EN
VERSION:2.0
METHOD:PUBLISH
BEGIN:VEVENT
ORGANIZER:MAILTO:support@haifaff.co.il
DTSTART:20240607T16300000Z
DTEND:20240607T16300000Z
LOCATION:אולם רפפורט, שד\' הנשיא 138 מרכז הכרמל
TRANSP:OPAQUE
SEQUENCE:7
UID:040000008200E00074C5B7101A82E00800000000F0307E0C8FD5CF010000000000000000100
 00000CC88F45319E0A54B83B4D642E9F79
RECURRENCE-ID:20141005
DTSTAMP:20260422T045156Z
DESCRIPTION:
		
			
				סרטי אמנות: פסטיבל אפוס 2024נדמה שאי אפשר שלא להתאהב בקלאוס מקלה. הניצוץ שבעיניו, כישרונו המוסיקלי יוצא הדופן, חתירתו לשלמות &ndash; לא מתוך נרקיסיזם אלא מתוך אהבתו האינסופית למוסיקה &ndash; ויכולתו להעביר אהבה זו לתזמורת שעליה הוא מנצח ולקהל הרחב. עד גיל 27 הספיק להיות המנהל המוסיקלי והמנצח הראשי של הפילהרמונית של אוסלו (המשרה הוצעה לו מיד אחרי קונצרט אחד שניצח עליו שם, בגיל 22) וגם של &nbsp;תזמורת פריז, וכבר עכשיו הוצעה לו המשרה הנחשקת של המנצח הראשי של התזמורת המלכותית באמסטרדם &ndash; הוא יהיה בן 31 בלבד כשיתחיל.בקטעי הארכיון שבסרט אנחנו רואים ילד-נער מתבגר עם שרביט מנצחים ביד, וזה אולי נראה כמו משחק של ילד אבל לא: כבר אז הוא באמת מנצח. ומכאן אנו מצטרפים למסע מוסיקלי נטול מסכות ואגו ונחשפים לגאון מוסיקלי, מאסטרו ועלם חמודות, איש חזון ויצירה שרבים צופים שתהיה לו השפעה רבה על עולם המוסיקה של המאה ה-21. ובסוף הסרט, ההרגשה היא כאילו יצאנו מקונצרט מוצלח.52 דקות, אנגלית, תרגום לעברית.ההקרנה והתקציר באדיבות פסטיבל אפוס.
			
			
				
			
		
		
SUMMARY:נעים להכיר: קלאוס מקלה
END:VEVENT
END:VCALENDAR