BEGIN:VCALENDAR
PRODID:-//Microsoft Corporation//Outlook 10.0 MIMEDIR//EN
VERSION:2.0
METHOD:PUBLISH
BEGIN:VEVENT
ORGANIZER:MAILTO:support@haifaff.co.il
DTSTART:20240608T18150000Z
DTEND:20240608T18150000Z
LOCATION:אולם רפפורט, שד\' הנשיא 138 מרכז הכרמל
TRANSP:OPAQUE
SEQUENCE:7
UID:040000008200E00074C5B7101A82E00800000000F0307E0C8FD5CF010000000000000000100
 00000CC88F45319E0A54B83B4D642E9F79
RECURRENCE-ID:20141005
DTSTAMP:20260423T083523Z
DESCRIPTION:
		
			
				ספרים, רבותי, סרטים מהסופרת המצליחה של רב-המכר \'פלא\' - הספר שהוביל להקמת התנועה ל\"בחירה בטוּב לב\", מגיע סיפור מעורר השראה נוסף. עלילת \'ציפור לבנה: סיפור פלא\' עוקבת אחר ג\'וליאן שמתקשה להרגיש שייך מאז שסולק מבית הספר הקודם שלו. על מנת להכניס שינוי לחייו, סבתו של ג\'וליאן חושפת בפניו סוף-סוף את סיפורה האישי על אומץ וגבורה &ndash; בנערותה בצרפת הכבושה ע\"י נאצים, נער מכיתתה מגן עליה מפני סכנה ממשית לחייה. הם מוצאים אהבה ראשונה בעולם מרהיב שהם יוצרים לעצמם, בעוד אמו של הנער מסכנת הכל על מנת להגן עליה.\'ציפור לבנה: סיפור פלא\', כמו \'פלא\' לפניו, הוא סרט מרומם נפש על איך מעשה אחד של טוּב לב יכול להמשיך להתקיים לנצח.120 דקות, אנגלית, תרגום לעברית.
			
			
				
			
		
		
SUMMARY:ציפור לבנה: סיפור פלא
END:VEVENT
END:VCALENDAR