BEGIN:VCALENDAR
PRODID:-//Microsoft Corporation//Outlook 10.0 MIMEDIR//EN
VERSION:2.0
METHOD:PUBLISH
BEGIN:VEVENT
ORGANIZER:MAILTO:support@haifaff.co.il
DTSTART:20240702T19000000Z
DTEND:20240702T19000000Z
LOCATION:סינמטק חיפה, שד\' הנשיא 142, מרכז הכרמל
TRANSP:OPAQUE
SEQUENCE:7
UID:040000008200E00074C5B7101A82E00800000000F0307E0C8FD5CF010000000000000000100
 00000CC88F45319E0A54B83B4D642E9F79
RECURRENCE-ID:20141005
DTSTAMP:20260424T122051Z
DESCRIPTION:
		
			
				פסטיבל דוקאביב &ndash; זוכה פרס סרט הביכוריםשלישי ישראלי: סרט ומפגשסיפור מערכת היחסים של אישה עם החזה שלה נחשף בתא המדידה בחנות חזיות ביפו. בכל פתיחת וילון מתגלה אישה מול המראה. לפי מצב רוחה היא בוחרת את גודל הפריים בו תצולם, ותוך כדי ניסיונות להתאים חזייה תומכת מספרת את סיפורה. כי ציצי זה סיפור חיים. מינקות, כשהשד נותן חיים &ndash; ועד לגיל הממוגרפיה, שמזכיר לאישה שציצי גם לוקח חיים. בין לבין מתנהלת מערכת יחסים מסעירה, סקסית ומצחיקה אך גם מסרבלת, מכבידה, לעתים מאיימת. זה סיפור שמתפרץ החוצה, תמיד צעד אחד לפנייך, וגם כשלא יכולת או רצית לספר הוא נכתב מעצמו על הגוף.68 דקות, עברית, כתוביות בעברית.לאחר ההקרנה תתקיים שיחה עם הבמאית מיכל כהן.
			
			
				
			
		
		
SUMMARY:תמיכה מלאה
END:VEVENT
END:VCALENDAR