BEGIN:VCALENDAR
PRODID:-//Microsoft Corporation//Outlook 10.0 MIMEDIR//EN
VERSION:2.0
METHOD:PUBLISH
BEGIN:VEVENT
ORGANIZER:MAILTO:support@haifaff.co.il
DTSTART:20240908T20000000Z
DTEND:20240908T20000000Z
LOCATION:אולם רפפורט, שד\' הנשיא 138 מרכז הכרמל
TRANSP:OPAQUE
SEQUENCE:7
UID:040000008200E00074C5B7101A82E00800000000F0307E0C8FD5CF010000000000000000100
 00000CC88F45319E0A54B83B4D642E9F79
RECURRENCE-ID:20141005
DTSTAMP:20260419T013502Z
DESCRIPTION:
		
			
				קומדיה-דרמה חדה ושנונה המתרחשת על רקע הנחיתה ההיסטורית של אפולו 11 על הירח וההימור הגבוה שהאמריקנים לקחו על עצמם. הלחצים עצומים וכאן נכנסת לתמונה ג\'ונס, גאונה שיווקית שגויסה לתקן את תדמית נאס\"א. היא גורמת למהפך תקשורתי ותדמיתי ובדרך מאתגרת את משימתו המאתגרת ממילא של קול דייוויס, מנהל השיגור. כאשר הבית הלבן מחליט שהמשימה חשובה מכדי להיכשל, ג\'ונס מקבלת הוראה לביים נחיתה מזויפת על הירח כתוכנית גיבוי והספירה לאחור מתחילה באמת.131 דקות, אנגלית, תרגום לעברית.
			
			
				
			
		
		
SUMMARY:קח אותי לירח
END:VEVENT
END:VCALENDAR