BEGIN:VCALENDAR
PRODID:-//Microsoft Corporation//Outlook 10.0 MIMEDIR//EN
VERSION:2.0
METHOD:PUBLISH
BEGIN:VEVENT
ORGANIZER:MAILTO:support@haifaff.co.il
DTSTART:20241024T14000000Z
DTEND:20241024T14000000Z
LOCATION:סינמטק חיפה, שד\' הנשיא 142, מרכז הכרמל
TRANSP:OPAQUE
SEQUENCE:7
UID:040000008200E00074C5B7101A82E00800000000F0307E0C8FD5CF010000000000000000100
 00000CC88F45319E0A54B83B4D642E9F79
RECURRENCE-ID:20141005
DTSTAMP:20260422T090333Z
DESCRIPTION:
		
			
				חמישי, 24.10, 14:00, סינמטקעל כלבים ואנשים - הקרנה מיוחדת ושיחה עם יוצרי הסרט ומשתתפי הסרט מקיבוץ ניר עוז.כניסה ללא תשלום בהזמנת מקום מראשעל הסרט:על כלבים ואנשים Of Dogs and Men&nbsp;ב-18 באוקטובר לפנות בוקר יוצאת דר בת ה-16, בחזרה אל ביתה בקיבוץ ניר עוז בכדי לחפש את כלבתה שאבדה שם במהלך השבת השחורה. בקיבוץ הנטוש אין זכר לכלבה ורק זיכרונות אמה, שנחטפה מביתם, מרחפים בחלל האוויר.על כלבים ואנשים&nbsp;צולם בזמן אמת והוא משלב סיפור בדיוני עם המציאות המטלטלת של עוטף עזה בימים שלאחר השבעה באוקטובר. הסרט צולם בחלקו הגדול בקיבוץ ניר עוז, קיבוץ של אנשי עמל, רוח ושלום. רבע מהקיבוץ הושמד, רבים מחבריו נרצחו או נחטפו, וחלק מחבריו מופיע בסרט, כמו גם דמויות נוספות שהיו פעילות באותה תקופה שם, באזור הגבול.&nbsp;לאחר ההקרנה נקיים שיחה עם יוצרי ומשתתפי הסרט ונדון בשאלות שהעסיקו את יוצרי הסרט בעת עשייתו: האם ניתן כלל לייצג את האירועים, לספר אותם, לשאת אותם כזיכרון, ומעבר לכך, כיצד ניתן לדבר על העתיד לבוא מתוך ההרס?&nbsp;ישראל | 2024&nbsp;82 דקות | עברית | תרגום לעבריתבימוי: דני רוזנברג הפקה: איתי תמיר, אלכסנדר רודיאנסקי, דונטלה פלרמו&nbsp;&nbsp;&nbsp;&nbsp;תסריט: דני רוזנברג, אורי אבינועם, איתי תמיר | צילום: זיו ברקוביץ | עריכה: נילי פלר | עיצוב פסקול: איציק כהן, ניל גיבס | מוזיקה מקורית: יובל סמו | בהשתתפות: אורי אבינועם, נתן בהט, נורה ליפשיץ, ימית אביטלמקור: לילה סרטיםבאדיבות: סרטי נחשון&nbsp;משך האירוע כ-135 דק\'
			
		
		
SUMMARY:על כלבים ואנשים - הקרנה מיוחדת ושיחה עם יוצרי הסרט ומשתתפי הסרט מקיבוץ ניר עוז
END:VEVENT
END:VCALENDAR