BEGIN:VCALENDAR
PRODID:-//Microsoft Corporation//Outlook 10.0 MIMEDIR//EN
VERSION:2.0
METHOD:PUBLISH
BEGIN:VEVENT
ORGANIZER:MAILTO:support@haifaff.co.il
DTSTART:20241102T17300000Z
DTEND:20241102T17300000Z
LOCATION:סינמטק חיפה, שד\' הנשיא 142, מרכז הכרמל
TRANSP:OPAQUE
SEQUENCE:7
UID:040000008200E00074C5B7101A82E00800000000F0307E0C8FD5CF010000000000000000100
 00000CC88F45319E0A54B83B4D642E9F79
RECURRENCE-ID:20141005
DTSTAMP:20260420T100826Z
DESCRIPTION:
		
			
				סרט ביכורים המרגש של ג\'רמי בוריסון הוקרן במספר פסטיבלים בעולם וזכה בפרס הסרט העלילתי הטוב ביותר בפסטיבל הסרטים היהודי בלוס אנג\'לס. הסרט מספק הצצה לעולמו של נועם, תלמיד תיכון דתי ממשפחה אמריקאית מסורתית, המוצא מכתב אהבה שנכתב לסבו על ידי אדם אחר לפני השואה. הוא יוצא לחפש את האדם המסתורי שכתב את המכתב ולחשוף גם את זהותו של סבו וגם את זהותו שלו. צ\'רלי קורמן בתפקיד הראשי עושה עבודה נפלאה. את חברו הטוב ללימודים ומושא אהבתו, העוזר לו לרדת לשורשי האמת המשפחתית שנראה שכולם מנסים להסתיר ממנו, מגלם השחקן הישראלי מיכאל זפסוצקי (הזכור מסדרות \"פלפלים צהובים\" ו-\"מפקדת\"). התוצאה היא סרט נעורים מרגש המשלב עבר, הווה ואת החוויה המורכבת של להיות נער בסביבה יהודית שמרנית.91 דקות, אנגלית, תרגום לעברית.באדיבות פסטיבל TLV.
			
			
				
			
		
		
SUMMARY:מה שלא נאמר
END:VEVENT
END:VCALENDAR