BEGIN:VCALENDAR
PRODID:-//Microsoft Corporation//Outlook 10.0 MIMEDIR//EN
VERSION:2.0
METHOD:PUBLISH
BEGIN:VEVENT
ORGANIZER:MAILTO:support@haifaff.co.il
DTSTART:20241103T20150000Z
DTEND:20241103T20150000Z
LOCATION:סינמטק חיפה, שד\' הנשיא 142, מרכז הכרמל
TRANSP:OPAQUE
SEQUENCE:7
UID:040000008200E00074C5B7101A82E00800000000F0307E0C8FD5CF010000000000000000100
 00000CC88F45319E0A54B83B4D642E9F79
RECURRENCE-ID:20141005
DTSTAMP:20260424T031035Z
DESCRIPTION:
		
			
				זוכה פרס הבימוי ופרס פיפרסקי בפסטיבל הקולנוע מינכן 2024. ג\'וזף וסוניה חולקים ידידות רבת שנים והם מגדלים יחד ילד משותף. ג\'וזף הוא במאי קולנוע שעסוק מאוד בעבודה על הפרויקט הקולנועי הבא שלו. סוניה מאושפזת בעקבות משבר נפשי ומתקשה להישאר באשפוז. ג\'וזף חייב ללהטט בין המחויבויות היומיומיות, השאיפות האמנותיות, ההורות וחיפוש אחר בן זוג.פביאן שטום כתב תסריט מופלא ועדין, אינטליגנטי ועכשווי להפליא על תהפוכות החיים, על אתגרים בלתי צפויים, על רגעים שוחקים לצד רגעים פיוטיים ומרגשים. מדובר בסרט קומי שקט שמצליח לגעת בנושאים מורכבים באופן חכם ומבדר בו זמנית.95 דקות, גרמנית ואנגלית, תרגום לעברית.באדיבות פסטיבל TLV.
			
			
				
			
		
		
SUMMARY:בדיחות עצובות
END:VEVENT
END:VCALENDAR