BEGIN:VCALENDAR
PRODID:-//Microsoft Corporation//Outlook 10.0 MIMEDIR//EN
VERSION:2.0
METHOD:PUBLISH
BEGIN:VEVENT
ORGANIZER:MAILTO:support@haifaff.co.il
DTSTART:20241108T18000000Z
DTEND:20241108T18000000Z
LOCATION:סינמטק חיפה, שד\' הנשיא 142, מרכז הכרמל
TRANSP:OPAQUE
SEQUENCE:7
UID:040000008200E00074C5B7101A82E00800000000F0307E0C8FD5CF010000000000000000100
 00000CC88F45319E0A54B83B4D642E9F79
RECURRENCE-ID:20141005
DTSTAMP:20260420T054314Z
DESCRIPTION:
		
			
				במערב גאורגיה ההררית קהילה כפרית מסתמכת על זוג רכבלים המחברים בין שני צדי העמק התלולים. איווה (Iva) חוזרת אל הכפר בעקבות מות קרוב משפחה, ולוקחת על עצמה עבודה באחת הגונדולות של הרכבל. היא יוצרת ידידות למרחקים ארוכים עם נינה, מקבילתה בגונדולה השנייה. עם הזמן, המפגשים האוויריים האלה מתפתחים לפלירטוטים שובבים בין שתי הבחורות הצעירות ואז לקשר עמוק של אהבה.הרומן המוזר הזה הוא נטול דיבורים, אבל עם המון מבע קולנועי מקורי פרי מוחו הקודח של הבמאי/תסריטאי הגרמני וייט הלמר. מדובר ביצירה מענגת למראה עם שפע רעיונות קולנועיים מקסימים ושובבים. 82 דקות ללא דיאלוג אבל עם המון אהבה לאמנות הקולנוע וגם לגיבורות הנפלאות של הסרט.ב\"גונדולה\" אהבה באמת מרחפת בין שמים לארץ, פשוט כיף טהור של סרט, שהוקרן במיטב הפסטיבלים הבינלאומיים בעולם כולו.82 דקות, ללא דיאלוג
			
			
				
			
		
		
SUMMARY:גונדולה
END:VEVENT
END:VCALENDAR