BEGIN:VCALENDAR
PRODID:-//Microsoft Corporation//Outlook 10.0 MIMEDIR//EN
VERSION:2.0
METHOD:PUBLISH
BEGIN:VEVENT
ORGANIZER:MAILTO:support@haifaff.co.il
DTSTART:20241109T18000000Z
DTEND:20241109T18000000Z
LOCATION:סינמטק חיפה, שד\' הנשיא 142, מרכז הכרמל
TRANSP:OPAQUE
SEQUENCE:7
UID:040000008200E00074C5B7101A82E00800000000F0307E0C8FD5CF010000000000000000100
 00000CC88F45319E0A54B83B4D642E9F79
RECURRENCE-ID:20141005
DTSTAMP:20260424T015351Z
DESCRIPTION:
		
			
				עיבוד קולנועי לספר בעל אותו השם המבוסס על סיפור אמיתי. לוקה הוא גבר קתולי רווק והומוסקסואל, שב-2017 אימץ את אלבה, תינוקת עם תסמונת דאון שהושארה בבית החולים זמן קצר לאחר שנולדה. הרשויות סרבו מספר פעמים בעבר לתת ללוקה לאמץ ילדים או תינוקות. אלבה שכבה בבית חולים כאשר 30 משפחות הטרוסקסואליות דחו אותה. בעזרת עורכת דין לזכויות אדם הוא פונה לבית המשפט והופך למקרה הראשון באיטליה של אדם רווק והומוסקסואל שהצליח לאמץ בת. הוא לא עשה זאת כדי להילחם ברשויות, הוא פשוט מאוד רצה משפחה. בזכות המקרה של לוקה, איטליה מאפשרת לגברים רווקים להיות משפחות אומנה.113 דקות, איטלקית, תרגום לעברית ולאנגלית.באדיבות פסטיבל TLV.
			
		
		
SUMMARY:נולדה בשבילך
END:VEVENT
END:VCALENDAR