BEGIN:VCALENDAR
PRODID:-//Microsoft Corporation//Outlook 10.0 MIMEDIR//EN
VERSION:2.0
METHOD:PUBLISH
BEGIN:VEVENT
ORGANIZER:MAILTO:support@haifaff.co.il
DTSTART:20241128T18000000Z
DTEND:20241128T18000000Z
LOCATION:סינמטק חיפה, שד\' הנשיא 142, מרכז הכרמל
TRANSP:OPAQUE
SEQUENCE:7
UID:040000008200E00074C5B7101A82E00800000000F0307E0C8FD5CF010000000000000000100
 00000CC88F45319E0A54B83B4D642E9F79
RECURRENCE-ID:20141005
DTSTAMP:20260422T101736Z
DESCRIPTION:
		
			
				הקרנת טרום בכורהקולנוע ישראלירגינה ונכדתה מיקה, נוסעות לפולין כדי להשיב את הנכס המשפחתי שהולאם במלחמת העולם השנייה. אלא שהמשימה מסתבכת מהר מאוד &ndash; רגינה מכריזה שהיא מוותרת על כל העניין ורוצה לחזור לארץ, מיקה לא יודעת מאיפה להתחיל, וקרוב-רחוק מרגיז של המשפחה חוזר וצץ בכל פינה. כשמיקה פוגשת מדריך תיירים נאה ומקסים ומתחילה להתאהב, מתפנה לרגינה הדרך למטרה האמיתית בגללה הגיעה לפולין מלכתחילה: למצוא את אהוב נעוריה, ממנו הופרדה לפני שבעים שנה.\"הנכס\", סרטה הראשון והמצופה כבמאית של דנה מודן (\"אהבה זה כואב\", \"ככה זה\", \"אבירם כץ\"), אחת היוצרות השנונות והמוערכות בישראל, הוא דרמה קומית רומנטית המבוססת על הרומן הגרפי של אחותה רותו מודן, שזכה בפרסים בינלאומיים ותורגם לשפות רבות. בכיכובן של רבקה מיכאלי האגדית, השחקנית הצעירה והכובשת שרון סטרימבן, ועם תפקיד מרגש של גדול שחקני פולין אנדז\'יי סברין, \"הנכס\" הוא סיפור משפחתי מצחיק, מרגש, חכם, אופטימי ומרחיב לב, על בחירות, מחירים, וכוחה של האהבה בכל גיל.108 דקות, עברית, אנגלית ופולנית, תרגום לעברית.
			
		
		
SUMMARY:הנכס
END:VEVENT
END:VCALENDAR