BEGIN:VCALENDAR
PRODID:-//Microsoft Corporation//Outlook 10.0 MIMEDIR//EN
VERSION:2.0
METHOD:PUBLISH
BEGIN:VEVENT
ORGANIZER:MAILTO:support@haifaff.co.il
DTSTART:20241208T20000000Z
DTEND:20241208T20000000Z
LOCATION:סינמטק חיפה, שד\' הנשיא 142, מרכז הכרמל
TRANSP:OPAQUE
SEQUENCE:7
UID:040000008200E00074C5B7101A82E00800000000F0307E0C8FD5CF010000000000000000100
 00000CC88F45319E0A54B83B4D642E9F79
RECURRENCE-ID:20141005
DTSTAMP:20260425T044807Z
DESCRIPTION:
		
			
				רובר גדיגיאןלאחר שמישל מאבד את מקום עבודתו, ילדיו וחבריו נרתמים לכך שהוא ואשתו, מרי קלייר, יצליחו להגשים את חלומם &ndash; לראות את פסגתו המושלגת של הקילימנג\'רו. אך הגורל המתאכזר ותהפוכות החיים יזמנו להם אתגרים אחרים והם יגלו ביחד ולחוד פסגות חשובות לאין ערוך להעפיל אליהן.\"אמפתיה, נדיבות וטוב לב אינן תכונות שאנו נתקלים בהן לעתים קרובות בקולנוע בן זמננו, והנה בא &ldquo;שלגי קילימנג&rsquo;רו&rdquo;, סרטו של הבמאי הצרפתי רובר גדיגיאן, ומציב אותן במרכז ההוויה האנושית תוך כדי שהוא חוגג אותן בדרך קולנועית צנועה ונוגעת ללב.\" &ndash; אורי קליין.107 דקות, צרפתית, תרגום לעברית.
			
		
		
SUMMARY:שלגי הקילמנג\'רו
END:VEVENT
END:VCALENDAR