BEGIN:VCALENDAR
PRODID:-//Microsoft Corporation//Outlook 10.0 MIMEDIR//EN
VERSION:2.0
METHOD:PUBLISH
BEGIN:VEVENT
ORGANIZER:MAILTO:support@haifaff.co.il
DTSTART:20250201T11000000Z
DTEND:20250201T11000000Z
LOCATION:סינמטק חיפה, שד\' הנשיא 142, מרכז הכרמל
TRANSP:OPAQUE
SEQUENCE:7
UID:040000008200E00074C5B7101A82E00800000000F0307E0C8FD5CF010000000000000000100
 00000CC88F45319E0A54B83B4D642E9F79
RECURRENCE-ID:20141005
DTSTAMP:20260422T102836Z
DESCRIPTION:
		
			
				הקרנת טרום בכורהפסטיבל הסרטים חיפה &ndash; תחרות עוגן הזהבאחרי תקרית קטנה בבית הספר, וויי, נער בוטח ממשפחה סינית אמידה, מתיידד עם בן כיתתו שואו. וויי מזמין את שואו הביתה, מציג אותו בפני הוריו, וכשאלה שומעים ששואו בא מרקע לא פשוט, הם מעודדים את הנער עם החיוך השקט לבלות יותר זמן בביתם. שואו הולך והופך לחלק מהמשפחה ומתחיל לגלות שמאחורי החיים הנוחים של הבורגנות מסתתרת קלחת של סודות, ציפיות ורגשות, שלא יישארו חבויים לנצח. סרט הביכורים של לין ג\'יאנג\'יה, שכבר הוקרן בהצלחה בפסטיבלים המובילים בעולם וזכה בפרס הסרט הטוב בפסטיבל בייג\'ין 2024, מציע פרשנות אלגנטית ומותחת לסיפור הזר שמפלס את דרכו אל ליבה של משפחה, ומסמן את הבמאי כקול חדש ומסקרן בקולנוע הסיני העכשווי. אם אהבתם את \"הכישרון של מר ריפלי\", אסור לכם להחמיץ את הסרט הזה!99 דקות מנדרינית תרגום לעברית ולאנגלית.באדיבות קולנוע חדש.
			
		
		
SUMMARY:היסטוריה קצרה של משפחה
END:VEVENT
END:VCALENDAR