BEGIN:VCALENDAR
PRODID:-//Microsoft Corporation//Outlook 10.0 MIMEDIR//EN
VERSION:2.0
METHOD:PUBLISH
BEGIN:VEVENT
ORGANIZER:MAILTO:support@haifaff.co.il
DTSTART:20250309T15000000Z
DTEND:20250309T15000000Z
LOCATION:אולם רפפורט, שד\' הנשיא 138 מרכז הכרמל
TRANSP:OPAQUE
SEQUENCE:7
UID:040000008200E00074C5B7101A82E00800000000F0307E0C8FD5CF010000000000000000100
 00000CC88F45319E0A54B83B4D642E9F79
RECURRENCE-ID:20141005
DTSTAMP:20260423T053001Z
DESCRIPTION:
		
			
				יום עיון של היחידה ללימודי המשך והמרכז הקליני האוניברסיטאי הבין-תחומי, הפקולטה למדעי הרווחה והבריאות באוניברסיטת חיפה15:00 - הרצאת פתיחה, צפייה בסרט פרויד. האאוטסיידר ומפגש עם הבמאי יאיר קידר17:00 - הרצאות ופאנל מומחיםפסטיבל הסרטים חיפה &ndash; תחרות הקולנוע הישראליפרויד. האאוטסיידר.OUTSIDER. FREUDישראל/אוסטריה/גרמניה 2024בימוי: יאיר קדרחייו ויצירתו של זיגמונד פרויד מסופרים בארבע מערכות, דרך מכתבים אישיים של פרויד, בשילוב אנימציות, דרך שחזור חדר העבודה האגדתי שלו, דרך חלומות לא ידועים וארכיונים נדירים של סרטים ביתיים שלא נחשפו עד כה, ודרך פסיכואנליטיקאים מובילים בעולם ייקחו אותנו למסע אינטימי ומעורר מחשבה על החלומות, היהדות, המיניות, החרדות והחרטות של הפסיכואנליטיקאי הווינאי.66 דקות, עברית, אנגלית, צרפתית וגרמנית, תרגום לעברית ולאנגלית.לאחר ההקרנה תתקיים שיחה עם הבמאי יאיר קדר.*תכנית מפורטת תתפרסם בהמשךכרטיס: 65 ₪. גמלאים, חיילים, עובדי אוניברסיטת חיפה: 45 ₪. מנוי סינמטק: כניסה חופשית להרצאת המבוא ולסרט. השתתפות ביום העיון כולו: 35 ₪
			
			
				
				
			
			
				
				
				
				
				
			
		
		
SUMMARY:פרויד. האאוטסיידר. האמנם? - סרט ויום עיון
END:VEVENT
END:VCALENDAR