BEGIN:VCALENDAR
PRODID:-//Microsoft Corporation//Outlook 10.0 MIMEDIR//EN
VERSION:2.0
METHOD:PUBLISH
BEGIN:VEVENT
ORGANIZER:MAILTO:support@haifaff.co.il
DTSTART:20250507T19000000Z
DTEND:20250507T19000000Z
LOCATION:סינמטק חיפה, שד\' הנשיא 142, מרכז הכרמל
TRANSP:OPAQUE
SEQUENCE:7
UID:040000008200E00074C5B7101A82E00800000000F0307E0C8FD5CF010000000000000000100
 00000CC88F45319E0A54B83B4D642E9F79
RECURRENCE-ID:20141005
DTSTAMP:20260424T123440Z
DESCRIPTION:
		
			
				צ\'ינמה איטליה &ndash; פסטיבל קולנוע איטלקיהקרנת טרום בכורהמאז שנולדה, בקיץ של 1950 בנאפולי, עיני כולם היו נשואות לפרתנופה היפהפייה שנקראה על שמה של הדמות המיתולוגית שהעניקה לאזור את שמו, והייתה ידועה ביופייה הפראי ובעוצמתה הבלתי מתפשרת. נדמה שפרתנופה נועדה לגדולות, ואכן, היא כובשת את כל הסובבים אותה עם קסם שאי אפשר לעמוד בפניו ועם נוכחות מסחררת ומרתקת, כשבליבה תהייה מתמשכת &ndash; מי היא באמת? בנערותה ואז בבגרותה, על רקע חופי הים של קאפרי וברחבי אירופה, פרתנופה תמצא את דרכה בעולם.סרטו החדש של הבמאי האיטלקי המוערך ביותר של ימינו, זוכה האוסקר פאולו סורנטינו (\"יפה לנצח\", \"נעורים\"), הוקרן לראשונה במסגרת התחרות הרשמית של פסטיבל קאן. סגנונו המוכר והמהפנט של הבמאי, שכל פריים בסרטיו מרהיב יותר מקודמו, נוכח גם כאן ב\"הנערה מנאפולי\" - דרמה אפית על חופש, על יופי, על איטליה, ועל פניה הרבות של האהבה.136 דקות, איטלקית, תרגום לעברית ולאנגלית.באדיבות בתי קולנוע לב.
			
			
				
			
		
		
SUMMARY:הנערה מנאפולי
END:VEVENT
END:VCALENDAR