BEGIN:VCALENDAR
PRODID:-//Microsoft Corporation//Outlook 10.0 MIMEDIR//EN
VERSION:2.0
METHOD:PUBLISH
BEGIN:VEVENT
ORGANIZER:MAILTO:support@haifaff.co.il
DTSTART:20250516T18000000Z
DTEND:20250516T18000000Z
LOCATION:סינמטק חיפה, שד\' הנשיא 142, מרכז הכרמל
TRANSP:OPAQUE
SEQUENCE:7
UID:040000008200E00074C5B7101A82E00800000000F0307E0C8FD5CF010000000000000000100
 00000CC88F45319E0A54B83B4D642E9F79
RECURRENCE-ID:20141005
DTSTAMP:20260424T123639Z
DESCRIPTION:
		
			
				צ\'ינמה איטליה &ndash; פסטיבל קולנוע איטלקיגם מתחזים יכולים להיות שימושיים אומר קולונל אורסיני החכם והערמומי, כאשר הוא מוביל את צבאו של גריבלדי מצפון איטליה לסיציליה כדי לשחררה משליטת הצרפתים ולאחד את איטליה. הגישה וההתנהגות של הסיציליאנים לעתים לא מובנים לצפוניים ולכן אורסיני דוגל באסטרטגיה של הטעיה. אפילו יש לו פינה חמה לשני עריקים שמנסים להתחמק מהמשימה. רוברטו אנדו משלב בין דמויות ואירועים היסטוריים ב\"מסע של האלף\" לאיחוד איטליה בשנת 1860, עם עלילות משנה סמי-הומוריסטיות על חיילים ועריקים. התוצאה היא אפוס היסטורי מרהיב ספוג הומור שחור.131 דקות, איטלקית, תרגום לעברית ולאנגלית.הקרנה חד פעמית.
			
			
				
			
		
		
SUMMARY:האשליה
END:VEVENT
END:VCALENDAR