BEGIN:VCALENDAR
PRODID:-//Microsoft Corporation//Outlook 10.0 MIMEDIR//EN
VERSION:2.0
METHOD:PUBLISH
BEGIN:VEVENT
ORGANIZER:MAILTO:support@haifaff.co.il
DTSTART:20250518T18000000Z
DTEND:20250518T18000000Z
LOCATION:סינמטק חיפה, שד\' הנשיא 142, מרכז הכרמל
TRANSP:OPAQUE
SEQUENCE:7
UID:040000008200E00074C5B7101A82E00800000000F0307E0C8FD5CF010000000000000000100
 00000CC88F45319E0A54B83B4D642E9F79
RECURRENCE-ID:20141005
DTSTAMP:20260424T122830Z
DESCRIPTION:
		
			
				צ\'ינמה איטליה &ndash; פסטיבל קולנוע איטלקיניאוריאליזם איטלקי: טרילוגיית המלחמההסרט מורכב משישה סיפורים קצרים המתרחשים באיטליה בשלהי מלחמת העולם השנייה, עם התקדמות כוחות בעלות הברית במדינה. כל פרק ממוקם באזור גאוגרפי אחר ומתאר מפגש טעון בין חיילים אמריקאים לאיטלקים &ndash; אזרחים, פרטיזנים ונזירים &ndash; תוך הצגת פערי התרבות, האתגרים והאנושיות שמתגלים במציאות הכאוטית של המלחמה.בסיציליה, כרמלה, נערה מקומית, מדריכה חיילים אמריקאים דרך שדה מוקשים עם השלכות טרגיות. בנאפולי, ילד יתום ממלחמה גונב את מגפיו של חייל אמריקאי שיכור. ברומא, פרנצ\'סקה, צעירה ענייה, ממתינה לחייל שהתאהב בה חודשים קודם לכן. בפירנצה, אחות אמריקאית מסכנת את חייה כדי להתאחד עם אהובה במהלך קרב. בהרי האפנינים, שלושה כמרים צבאיים מתארחים במנזר, למרות שאחד מהם בלבד קתולי. לבסוף, בדלתת נהר הפו, לוחמים פרטיזנים וקציני OSS נלחמים בנאצים לאחר שהצילו שני טייסים בריטיים.באמצעות סגנון ריאליסטי ורגיש, רוסליני מצייר תמונה כנה ומרגשת של תקופה הרת גורל, בה תקווה וייאוש משמשים בערבוביה. הסרט נחשב לאחד מסרטי המפתח של הקולנוע הנאו-ריאליסטי האיטלקי.126 דקות, איטלקית, תרגום לעברית.
			
			
				
			
		
		
SUMMARY:פאיזה
END:VEVENT
END:VCALENDAR