BEGIN:VCALENDAR
PRODID:-//Microsoft Corporation//Outlook 10.0 MIMEDIR//EN
VERSION:2.0
METHOD:PUBLISH
BEGIN:VEVENT
ORGANIZER:MAILTO:support@haifaff.co.il
DTSTART:20250518T20300000Z
DTEND:20250518T20300000Z
LOCATION:סינמטק חיפה, שד\' הנשיא 142, מרכז הכרמל
TRANSP:OPAQUE
SEQUENCE:7
UID:040000008200E00074C5B7101A82E00800000000F0307E0C8FD5CF010000000000000000100
 00000CC88F45319E0A54B83B4D642E9F79
RECURRENCE-ID:20141005
DTSTAMP:20260422T044512Z
DESCRIPTION:
		
			
				חייהם של בני הזוג אנט ובן נסדקים כאשר בתם מתקבלת לתפקיד בסרט חדש לצד שחקנית איטלקייה מפורסמת וזוהרת. ככל שאנט מתחילה לחשוד שבעלה נמשך לכוכבת ומתקרב אליה, חוסר האמון ביניהם הולך וגובר. כשהחשדות הופכים לאובססיה, הסודות והשקרים שהוסתרו במשך שנים מאיימים להתגלות &ndash; ולהחריב את עולמם.90 דקות, אנגלית, תרגום לעברית.
			
		
		
SUMMARY:משחק השקר
END:VEVENT
END:VCALENDAR