BEGIN:VCALENDAR
PRODID:-//Microsoft Corporation//Outlook 10.0 MIMEDIR//EN
VERSION:2.0
METHOD:PUBLISH
BEGIN:VEVENT
ORGANIZER:MAILTO:support@haifaff.co.il
DTSTART:20250525T18300000Z
DTEND:20250525T18300000Z
LOCATION:סינמטק חיפה, שד\' הנשיא 142, מרכז הכרמל
TRANSP:OPAQUE
SEQUENCE:7
UID:040000008200E00074C5B7101A82E00800000000F0307E0C8FD5CF010000000000000000100
 00000CC88F45319E0A54B83B4D642E9F79
RECURRENCE-ID:20141005
DTSTAMP:20260424T123720Z
DESCRIPTION:
		
			
				צ\'ינמה איטליה &ndash; פסטיבל קולנוע איטלקיניאוריאליזם איטלקי: טרילוגיית המלחמהברלין, פחות משנה אחרי תום המלחמה. אדמונד, נער דחוי בן 15 שגר בחורבה עם אביו החולני אחיו ואחותו, הוא המפרנס היחיד של המשפחה. ברחוב הוא פוגש את מי שהיה מורו - פעם נאצי והיום פעיל בשוק השחור - וזה גורס בפניו כי רק לחזקים ישנה הזכות לשרוד. משוכנע באמת המעוותת הזו, עוד בטרם יעמוד על משמעות מעשהו, אדמונד מבצע אקט נורא...78 דקות, גרמנית, תרגום לעברית.
			
			
				
			
		
		
SUMMARY:גרמניה שנת אפס
END:VEVENT
END:VCALENDAR