BEGIN:VCALENDAR
PRODID:-//Microsoft Corporation//Outlook 10.0 MIMEDIR//EN
VERSION:2.0
METHOD:PUBLISH
BEGIN:VEVENT
ORGANIZER:MAILTO:support@haifaff.co.il
DTSTART:20250530T19000000Z
DTEND:20250530T19000000Z
LOCATION:אולם רפפורט, שד\' הנשיא 138 מרכז הכרמל
TRANSP:OPAQUE
SEQUENCE:7
UID:040000008200E00074C5B7101A82E00800000000F0307E0C8FD5CF010000000000000000100
 00000CC88F45319E0A54B83B4D642E9F79
RECURRENCE-ID:20141005
DTSTAMP:20260424T123752Z
DESCRIPTION:
		
			
				צ\'ינמה איטליה &ndash; פסטיבל קולנוע איטלקיסרט הנעילההקרנת טרום בכורהאחרי הלהיט העולמי \"זרים מושלמים\" פאולו ג\'נובזה חוזר עם להיט חדש ״השיגעון שלנו\", שסחף 2.5 מיליון איטלקים.קומדיה רומנטית מקורית המאפשרת הצצה למתרחש בראשיהם של פיירו ולארה במהלך הדייט הראשון שלהם. במהלך הערב נכיר את הקולות השונים בראש שלהם ואת הדמויות המרכיבות את אישיותם. ״השיגעון שלנו״ מפגיש אותנו עם האינסטינקטיביות, הרומנטיות, הרציונליות והקפריזיות שיש בכל אחד מאיתנו והקונפליקטים ביניהם. בואו להתאהב ולגלות את ההיגיון בשיגעון שלנו.97 דקות, איטלקית, תרגום לעברית ולאנגלית.באדיבות סרטי נחשון.
			
			
				
			
		
		
SUMMARY:השיגעון שלנו
END:VEVENT
END:VCALENDAR