BEGIN:VCALENDAR
PRODID:-//Microsoft Corporation//Outlook 10.0 MIMEDIR//EN
VERSION:2.0
METHOD:PUBLISH
BEGIN:VEVENT
ORGANIZER:MAILTO:support@haifaff.co.il
DTSTART:20250609T20000000Z
DTEND:20250609T20000000Z
LOCATION:סינמטק חיפה, שד\' הנשיא 142, מרכז הכרמל
TRANSP:OPAQUE
SEQUENCE:7
UID:040000008200E00074C5B7101A82E00800000000F0307E0C8FD5CF010000000000000000100
 00000CC88F45319E0A54B83B4D642E9F79
RECURRENCE-ID:20141005
DTSTAMP:20260424T123542Z
DESCRIPTION:
		
			
				צ\'ינמה איטליהמחווה למריו מוניצ\'ליפרדיננדו אספוזיטו הוא גנב קטן שמשתדל כל העת לחמוק מידיו של איש החוק. לורנצו בוטוני הוא השוטר שחייב לתפוס את הגנב אחרת ייאבד את משרתו. לאחר שרשרת מרדפים מתפתחת בין השניים ידידות מפתיעה המבוססת על העובדה שלמרות התפקידים השונים שהם ממלאים בדרמה הם חולקים גורל דומה ובעיות משותפות. \"שוטרים וגנבים\" צמח מתוך הזרם הניאו-ריאליסטי אך הוא מסמן גם את הסטייה מן החומרה של הקולנוע החברתי הניאו-ריאליסטי אל עבר רוח השטות והאירוניה של הקומדיה החברתית נוסח איטליה. זו קלאסיקה איטלקית הטומנת בחובה את אחד מהישגי המשחק הגדולים של הקומיקאי טוטו. הצנזורה האיטלקית של אותה העת לא אהדה אותו אבל חבר השופטים של פסטיבל קאן העניק לו את פרס התסריט הטוב ביותר.100 דקות, איטלקית, תרגום לעברית.הקרנה חד פעמית.
			
			
				
			
		
		
SUMMARY:שוטרים וגנבים
END:VEVENT
END:VCALENDAR