BEGIN:VCALENDAR
PRODID:-//Microsoft Corporation//Outlook 10.0 MIMEDIR//EN
VERSION:2.0
METHOD:PUBLISH
BEGIN:VEVENT
ORGANIZER:MAILTO:support@haifaff.co.il
DTSTART:20250714T18300000Z
DTEND:20250714T18300000Z
LOCATION:סינמטק חיפה, שד\' הנשיא 142, מרכז הכרמל
TRANSP:OPAQUE
SEQUENCE:7
UID:040000008200E00074C5B7101A82E00800000000F0307E0C8FD5CF010000000000000000100
 00000CC88F45319E0A54B83B4D642E9F79
RECURRENCE-ID:20141005
DTSTAMP:20260424T123709Z
DESCRIPTION:
		
			
				צ\'ינמה איטליהמחווה למריו מוניצ\'ליקומדיה על הפערים בין דורות באיטליה שאחרי מלחמת העולם. הסיפור מתרכז באהבתם של שני תיכוניסטים סנדרו ומרסלה. כשסיפור האהבה מתגלה ע\"י האבות שלהם התגובות לרומן מנוגדות. אב אחד, רופא אמיד עם בן מפונק נוסף, אינו מרוצה מהשידוך, ואילו השני, חייט אלמן, דווקא אינו מציב מכשולים. הסרט זכה בפרס דב הכסף על בימוי בפסטיבל ברלין.92 דקות, איטלקית, תרםום לעברית.הקרנה חד פעמית.
			
			
				
			
		
		
SUMMARY:אבות וילדים
END:VEVENT
END:VCALENDAR