BEGIN:VCALENDAR
PRODID:-//Microsoft Corporation//Outlook 10.0 MIMEDIR//EN
VERSION:2.0
METHOD:PUBLISH
BEGIN:VEVENT
ORGANIZER:MAILTO:support@haifaff.co.il
DTSTART:20250720T19300000Z
DTEND:20250720T19300000Z
LOCATION:סינמטק חיפה, שד\' הנשיא 142, מרכז הכרמל
TRANSP:OPAQUE
SEQUENCE:7
UID:040000008200E00074C5B7101A82E00800000000F0307E0C8FD5CF010000000000000000100
 00000CC88F45319E0A54B83B4D642E9F79
RECURRENCE-ID:20141005
DTSTAMP:20260424T123557Z
DESCRIPTION:
		
			
				צ\'ינמה איטליהמחווה למריו מוניצ\'ליהחברים הכי טובים פפה ומריו אינם גנבים מוצלחים במיוחד, אך פפה בטוח לגמרי כי השוד הגדול שתכנן יביא להם עושר רב. בעזרת מספר פושעים קטנים שצירף, הוא מתכנן לחפור מנהרה מדירה ששכרו ולשדוד כספת, אולם התכנון אינו מושלם ולאף אחד אין ניסיון בחפירת מנהרות &ndash; וזו רק הבעיה הקטנה ביותר בה הם נתקלים.\"אנחנו הגנבים\", נציג איטליה בתחרות האוסקר 1959, הוא קומדיה חברתית המשלבת בין סאטירה לפשע. הסרט נחשב לאחד מהבולטים של הגל החדש האיטלקי. מוניצ\'לי יצר סיפור שמצליח להיות בו-זמנית מצחיק ועצוב, תוך שהוא נוגע בעולמן הפנימי של הדמויות ובגורלן.106 דקות, איטלקית, תרגום לעברית.
			
			
				
			
			
				
			
		
		
SUMMARY:אנחנו הגנבים
END:VEVENT
END:VCALENDAR